Index of /checkResults/release/bioc-LATEST/mumosa/raw-results/merida1

[ICO]NameLast modifiedSizeDescription

[DIR]Parent Directory  -  
[TXT]buildbin-out.txt02-Jul-2022 01:08 1.1K 
[   ]buildbin-summary.dcf02-Jul-2022 01:08 521  
[TXT]buildsrc-out.txt02-Jul-2022 01:08 811  
[   ]buildsrc-summary.dcf02-Jul-2022 01:08 423  
[TXT]checksrc-out.txt02-Jul-2022 01:08 3.2K 
[   ]checksrc-summary.dcf02-Jul-2022 01:08 438  
[TXT]install-out.txt02-Jul-2022 01:08 969  
[   ]install-summary.dcf02-Jul-2022 01:08 266