Index of /checkResults/release/bioc-LATEST/mumosa/raw-results/merida1

[ICO]NameLast modifiedSizeDescription

[DIR]Parent Directory  -  
[   ]install-summary.dcf06-Aug-2022 03:20 266  
[TXT]install-out.txt06-Aug-2022 03:20 969  
[   ]checksrc-summary.dcf06-Aug-2022 03:20 438  
[TXT]checksrc-out.txt06-Aug-2022 03:20 3.2K 
[   ]buildsrc-summary.dcf06-Aug-2022 03:20 423  
[TXT]buildsrc-out.txt06-Aug-2022 03:20 811  
[   ]buildbin-summary.dcf06-Aug-2022 03:20 519  
[TXT]buildbin-out.txt06-Aug-2022 03:20 1.1K