Index of /checkResults/release/bioc-LATEST/methylGSA/raw-results/nebbiolo1

[ICO]NameLast modifiedSizeDescription

[DIR]Parent Directory  -  
[TXT]buildsrc-out.txt20-Jul-2024 06:37 877  
[   ]buildsrc-summary.dcf20-Jul-2024 06:37 424  
[TXT]checksrc-out.txt20-Jul-2024 06:37 3.9K 
[   ]checksrc-summary.dcf20-Jul-2024 06:37 422  
[TXT]install-out.txt20-Jul-2024 06:37 966  
[   ]install-summary.dcf20-Jul-2024 06:37 263