Back to Multiple platform build/check report for BioC 3.17:   simplified   long
ABCDEFGHIJKL[M]NOPQRSTUVWXYZ

This page was generated on 2023-09-22 11:37:31 -0400 (Fri, 22 Sep 2023).

HostnameOSArch (*)R versionInstalled pkgs
nebbiolo1Linux (Ubuntu 22.04.2 LTS)x86_644.3.1 (2023-06-16) -- "Beagle Scouts" 4625
palomino3Windows Server 2022 Datacenterx644.3.1 (2023-06-16 ucrt) -- "Beagle Scouts" 4378
merida1macOS 12.6.4 Montereyx86_644.3.1 (2023-06-16) -- "Beagle Scouts" 4394
Click on any hostname to see more info about the system (e.g. compilers)      (*) as reported by 'uname -p', except on Windows and Mac OS X

Package 1176/2230HostnameOS / ArchINSTALLBUILDCHECKBUILD BIN
metagenomeSeq 1.42.0  (landing page)
Joseph N. Paulson
Snapshot Date: 2023-09-21 14:00:15 -0400 (Thu, 21 Sep 2023)
git_url: https://git.bioconductor.org/packages/metagenomeSeq
git_branch: RELEASE_3_17
git_last_commit: 5ecb4dd
git_last_commit_date: 2023-04-25 10:26:39 -0400 (Tue, 25 Apr 2023)
nebbiolo1Linux (Ubuntu 22.04.2 LTS) / x86_64  OK    OK    ERROR  
palomino3Windows Server 2022 Datacenter / x64  OK    OK    ERROR    OK  
merida1macOS 12.6.4 Monterey / x86_64  OK    OK    ERROR    OK  

CHECK results for metagenomeSeq on merida1


To the developers/maintainers of the metagenomeSeq package:
- Allow up to 24 hours (and sometimes 48 hours) for your latest push to git@git.bioconductor.org:packages/metagenomeSeq.git to reflect on this report. See Troubleshooting Build Report for more information.
- Use the following Renviron settings to reproduce errors and warnings.
- If 'R CMD check' started to fail recently on the Linux builder(s) over a missing dependency, add the missing dependency to 'Suggests:' in your DESCRIPTION file. See Renviron.bioc for more information.

raw results


Summary

Package: metagenomeSeq
Version: 1.42.0
Command: /Library/Frameworks/R.framework/Resources/bin/R CMD check --install=check:metagenomeSeq.install-out.txt --library=/Library/Frameworks/R.framework/Resources/library --no-vignettes --timings metagenomeSeq_1.42.0.tar.gz
StartedAt: 2023-09-22 04:14:38 -0400 (Fri, 22 Sep 2023)
EndedAt: 2023-09-22 04:24:38 -0400 (Fri, 22 Sep 2023)
EllapsedTime: 600.6 seconds
RetCode: 1
Status:   ERROR  
CheckDir: metagenomeSeq.Rcheck
Warnings: NA

Command output

##############################################################################
##############################################################################
###
### Running command:
###
###   /Library/Frameworks/R.framework/Resources/bin/R CMD check --install=check:metagenomeSeq.install-out.txt --library=/Library/Frameworks/R.framework/Resources/library --no-vignettes --timings metagenomeSeq_1.42.0.tar.gz
###
##############################################################################
##############################################################################


* using log directory ‘/Users/biocbuild/bbs-3.17-bioc/meat/metagenomeSeq.Rcheck’
* using R version 4.3.1 (2023-06-16)
* using platform: x86_64-apple-darwin20 (64-bit)
* R was compiled by
    Apple clang version 14.0.3 (clang-1403.0.22.14.1)
    GNU Fortran (GCC) 12.2.0
* running under: macOS Monterey 12.6.4
* using session charset: UTF-8
* using option ‘--no-vignettes’
* checking for file ‘metagenomeSeq/DESCRIPTION’ ... OK
* this is package ‘metagenomeSeq’ version ‘1.42.0’
* checking package namespace information ... OK
* checking package dependencies ... OK
* checking if this is a source package ... OK
* checking if there is a namespace ... OK
* checking for hidden files and directories ... OK
* checking for portable file names ... OK
* checking for sufficient/correct file permissions ... OK
* checking whether package ‘metagenomeSeq’ can be installed ... OK
* checking installed package size ... OK
* checking package directory ... OK
* checking ‘build’ directory ... OK
* checking DESCRIPTION meta-information ... OK
* checking top-level files ... OK
* checking for left-over files ... OK
* checking index information ... OK
* checking package subdirectories ... OK
* checking R files for non-ASCII characters ... OK
* checking R files for syntax errors ... OK
* checking whether the package can be loaded ... OK
* checking whether the package can be loaded with stated dependencies ... OK
* checking whether the package can be unloaded cleanly ... OK
* checking whether the namespace can be loaded with stated dependencies ... OK
* checking whether the namespace can be unloaded cleanly ... OK
* checking dependencies in R code ... OK
* checking S3 generic/method consistency ... OK
* checking replacement functions ... OK
* checking foreign function calls ... OK
* checking R code for possible problems ... OK
* checking Rd files ... OK
* checking Rd metadata ... OK
* checking Rd cross-references ... OK
* checking for missing documentation entries ... OK
* checking for code/documentation mismatches ... OK
* checking Rd \usage sections ... OK
* checking Rd contents ... OK
* checking for unstated dependencies in examples ... OK
* checking contents of ‘data’ directory ... OK
* checking data for non-ASCII characters ... OK
* checking data for ASCII and uncompressed saves ... OK
* checking sizes of PDF files under ‘inst/doc’ ... OK
* checking files in ‘vignettes’ ... OK
* checking examples ... OK
Examples with CPU (user + system) or elapsed time > 5s
                user system elapsed
wrenchNorm    29.261  1.829  40.167
exportMat      2.984  7.362  13.408
extractMR      2.076  3.212   6.932
plotMRheatmap  4.786  0.126   6.119
MRfulltable    1.899  0.070  14.762
fitPA          0.885  0.088   8.293
fitDO          0.657  0.039   8.126
plotBubble     0.453  0.029   7.608
* checking for unstated dependencies in ‘tests’ ... OK
* checking tests ...
  Running ‘testthat.R’
 ERROR
Running the tests in ‘tests/testthat.R’ failed.
Last 13 lines of output:
  Loaded glmnet 4.1-8
  Loading required package: RColorBrewer
  [ FAIL 2 | WARN 6 | SKIP 0 | PASS 13 ]
  
  ══ Failed tests ════════════════════════════════════════════════════════════════
  ── Failure ('test-norm.R:28:3'): `cumNormStat` returns the correct value ───────
  cumNormStat(lungData) not equal to 0.7014946.
  names for target but not for current
  ── Failure ('test-norm.R:34:3'): `cumNormStatFast` returns the correct value ───
  cumNormStatFast(lungData) not equal to 0.7014946.
  names for target but not for current
  
  [ FAIL 2 | WARN 6 | SKIP 0 | PASS 13 ]
  Error: Test failures
  Execution halted
* checking for unstated dependencies in vignettes ... OK
* checking package vignettes in ‘inst/doc’ ... OK
* checking running R code from vignettes ... SKIPPED
* checking re-building of vignette outputs ... SKIPPED
* checking PDF version of manual ... OK
* DONE

Status: 1 ERROR
See
  ‘/Users/biocbuild/bbs-3.17-bioc/meat/metagenomeSeq.Rcheck/00check.log’
for details.


Installation output

metagenomeSeq.Rcheck/00install.out

##############################################################################
##############################################################################
###
### Running command:
###
###   /Library/Frameworks/R.framework/Resources/bin/R CMD INSTALL metagenomeSeq
###
##############################################################################
##############################################################################


* installing to library ‘/Library/Frameworks/R.framework/Versions/4.3-x86_64/Resources/library’
* installing *source* package ‘metagenomeSeq’ ...
** using staged installation
** R
** data
** inst
** byte-compile and prepare package for lazy loading
in method for ‘MRihw’ with signature ‘"fitFeatureModelResults"’: no definition for class “fitFeatureModelResults”
in method for ‘MRihw’ with signature ‘"fitZigResults"’: no definition for class “fitZigResults”
** help
*** installing help indices
** building package indices
** installing vignettes
** testing if installed package can be loaded from temporary location
** testing if installed package can be loaded from final location
** testing if installed package keeps a record of temporary installation path
* DONE (metagenomeSeq)

Tests output

metagenomeSeq.Rcheck/tests/testthat.Rout.fail


R version 4.3.1 (2023-06-16) -- "Beagle Scouts"
Copyright (C) 2023 The R Foundation for Statistical Computing
Platform: x86_64-apple-darwin20 (64-bit)

R is free software and comes with ABSOLUTELY NO WARRANTY.
You are welcome to redistribute it under certain conditions.
Type 'license()' or 'licence()' for distribution details.

R is a collaborative project with many contributors.
Type 'contributors()' for more information and
'citation()' on how to cite R or R packages in publications.

Type 'demo()' for some demos, 'help()' for on-line help, or
'help.start()' for an HTML browser interface to help.
Type 'q()' to quit R.

> library("testthat")
> packageVersion("metagenomeSeq")
[1] '1.42.0'
> # As suggested for opt-out option on testing by users, 
> # recommended by CRAN: http://adv-r.had.co.nz/Testing.html
> # Previously, best practice was to put all test files in inst/tests 
> # and ensure that R CMD check ran them by putting the following code in tests/test-all.R:  
> # >library(testthat)
> # >library(yourpackage)
> # >test_package("yourpackage")
> # Now, recommended practice is to put your tests in tests/testthat, 
> # and ensure R CMD check runs them by putting the following code in tests/test-all.R:
> # >library(testthat)
> # >test_check("yourpackage")
> # The advantage of this new structure is that the user has control over whether or not tests are installed using the –install-tests parameter to 
> # R CMD install, or INSTALL_opts = c(“–install-tests”) argument to install.packages(). I’m not sure why you wouldn’t want to install the tests, 
> # but now you have the flexibility as requested by CRAN maintainers.
> test_check("metagenomeSeq")
Loading required package: metagenomeSeq
Loading required package: Biobase
Loading required package: BiocGenerics

Attaching package: 'BiocGenerics'

The following objects are masked from 'package:stats':

    IQR, mad, sd, var, xtabs

The following objects are masked from 'package:base':

    Filter, Find, Map, Position, Reduce, anyDuplicated, aperm, append,
    as.data.frame, basename, cbind, colnames, dirname, do.call,
    duplicated, eval, evalq, get, grep, grepl, intersect, is.unsorted,
    lapply, mapply, match, mget, order, paste, pmax, pmax.int, pmin,
    pmin.int, rank, rbind, rownames, sapply, setdiff, sort, table,
    tapply, union, unique, unsplit, which.max, which.min

Welcome to Bioconductor

    Vignettes contain introductory material; view with
    'browseVignettes()'. To cite Bioconductor, see
    'citation("Biobase")', and for packages 'citation("pkgname")'.

Loading required package: limma

Attaching package: 'limma'

The following object is masked from 'package:BiocGenerics':

    plotMA

Loading required package: glmnet
Loading required package: Matrix
Loaded glmnet 4.1-8
Loading required package: RColorBrewer
[ FAIL 2 | WARN 6 | SKIP 0 | PASS 13 ]

══ Failed tests ════════════════════════════════════════════════════════════════
── Failure ('test-norm.R:28:3'): `cumNormStat` returns the correct value ───────
cumNormStat(lungData) not equal to 0.7014946.
names for target but not for current
── Failure ('test-norm.R:34:3'): `cumNormStatFast` returns the correct value ───
cumNormStatFast(lungData) not equal to 0.7014946.
names for target but not for current

[ FAIL 2 | WARN 6 | SKIP 0 | PASS 13 ]
Error: Test failures
Execution halted

Example timings

metagenomeSeq.Rcheck/metagenomeSeq-Ex.timings

nameusersystemelapsed
MRcoefs2.1670.2053.110
MRcounts0.7460.0501.023
MRexperiment-class0.0000.0000.001
MRfulltable 1.899 0.07014.762
MRtable1.8760.0422.344
aggregateBySample0.2920.0230.389
aggregateByTaxonomy0.3210.0200.447
biom2MRexperiment0.4680.0230.631
calcNormFactors0.8420.0981.204
correctIndices0.2030.0240.293
correlationTest0.4180.0280.594
cumNorm0.9940.1241.508
cumNormMat0.8420.1111.252
cumNormStat0.8400.0711.215
cumNormStatFast0.5300.0250.741
expSummary0.1880.0170.265
exportMat 2.984 7.36213.408
exportStats0.8900.0261.218
extractMR2.0763.2126.932
filterData0.2890.0170.427
fitDO0.6570.0398.126
fitFeatureModel1.9610.0592.500
fitLogNormal2.6330.1383.526
fitMultipleTimeSeries2.7350.1903.734
fitPA0.8850.0888.293
fitSSTimeSeries0.6540.0380.814
fitTimeSeries0.6590.0480.965
fitZig2.6000.1463.764
libSize-set0.5270.0100.704
libSize0.4910.0320.688
loadBiom0.0780.0020.109
loadMeta0.0370.0020.051
loadMetaQ0.0000.0010.001
loadPhenoData0.0210.0010.030
makeLabels0.0000.0010.001
mergeMRexperiments2.0110.2922.995
newMRexperiment0.0640.0010.079
normFactors-set0.5260.0370.747
normFactors0.4690.0090.629
plotBubble0.4530.0297.608
plotClassTimeSeries1.6450.1132.120
plotCorr0.8750.0601.071
plotFeature0.2460.0180.292
plotGenus0.2310.0160.274
plotMRheatmap4.7860.1266.119
plotOTU0.2410.0170.336
plotOrd0.4150.0510.597
plotRare0.2190.0170.313
plotTimeSeries1.6030.1332.295
posteriorProbs2.6340.1903.584
returnAppropriateObj0.4910.0260.708
ssFit0.0010.0000.001
ssIntervalCandidate0.0010.0000.001
ssPerm0.0010.0010.000
ssPermAnalysis0.0000.0010.001
trapz0.0010.0000.001
ts2MRexperiment2.6670.1413.640
uniqueFeatures0.2080.0160.295
wrenchNorm29.261 1.82940.167
zigControl0.0000.0000.001