Back to Multiple platform build/check report for BioC 3.16
ABCDEFGHIJKL[M]NOPQRSTUVWXYZ

This page was generated on 2023-02-02 11:04:49 -0500 (Thu, 02 Feb 2023).

HostnameOSArch (*)R versionInstalled pkgs
nebbiolo2Linux (Ubuntu 20.04.5 LTS)x86_644.2.2 (2022-10-31) -- "Innocent and Trusting" 4511
palomino4Windows Server 2022 Datacenterx644.2.2 (2022-10-31 ucrt) -- "Innocent and Trusting" 4289
lconwaymacOS 12.5.1 Montereyx86_644.2.2 (2022-10-31) -- "Innocent and Trusting" 4318
Click on any hostname to see more info about the system (e.g. compilers)      (*) as reported by 'uname -p', except on Windows and Mac OS X

All results for package made4


To the developers/maintainers of the made4 package:
- Please allow up to 24 hours (and sometimes 48 hours) for your latest push to git@git.bioconductor.org:packages/made4.git to
reflect on this report. See How and When does the builder pull? When will my changes propagate? for more information.
- Make sure to use the following settings in order to reproduce any error or warning you see on this page.

raw results

Package 1078/2183HostnameOS / ArchINSTALLBUILDCHECKBUILD BIN
made4 1.72.0  (landing page)
Aedin Culhane
Snapshot Date: 2023-02-01 14:00:04 -0500 (Wed, 01 Feb 2023)
git_url: https://git.bioconductor.org/packages/made4
git_branch: RELEASE_3_16
git_last_commit: 4f008b4
git_last_commit_date: 2022-11-01 10:38:42 -0500 (Tue, 01 Nov 2022)
nebbiolo2Linux (Ubuntu 20.04.5 LTS) / x86_64  OK    OK    OK  UNNEEDED, same version is already published
palomino4Windows Server 2022 Datacenter / x64  OK    OK    OK    OK  UNNEEDED, same version is already published
lconwaymacOS 12.5.1 Monterey / x86_64  OK    OK    OK    OK  UNNEEDED, same version is already published

Results for Bioconductor software packages that depend directly on package made4

QUICK STATSOS / ArchINSTALLBUILDCHECKBUILD BIN
nebbiolo2Linux (Ubuntu 20.04.5 LTS) / x86_64
002
002
0101
palomino4Windows Server 2022 Datacenter / x64
002
002
0002
002
lconwaymacOS 12.5.1 Monterey / x86_64
002
002
0002
002
Package 1/2HostnameOS / ArchINSTALLBUILDCHECKBUILD BIN
deco 1.14.0  (landing page)
Francisco Jose Campos Laborie
git_last_commit: f841d97
git_last_commit_date: 2022-11-01 11:19:01 -0500
nebbiolo2Linux (Ubuntu 20.04.5 LTS) / x86_64  OK    OK    ERROR  
palomino4Windows Server 2022 Datacenter / x64  OK    OK    OK    OK  UNNEEDED, same version is already published
lconwaymacOS 12.5.1 Monterey / x86_64  OK    OK    OK    OK  UNNEEDED, same version is already published
Package 2/2HostnameOS / ArchINSTALLBUILDCHECKBUILD BIN
omicade4 1.38.0  (landing page)
Chen Meng
git_last_commit: 8eec0e6
git_last_commit_date: 2022-11-01 11:08:43 -0500
nebbiolo2Linux (Ubuntu 20.04.5 LTS) / x86_64  OK    OK    OK  UNNEEDED, same version is already published
palomino4Windows Server 2022 Datacenter / x64  OK    OK    OK    OK  UNNEEDED, same version is already published
lconwaymacOS 12.5.1 Monterey / x86_64  OK    OK    OK    OK  UNNEEDED, same version is already published