Index of /checkResults/release/bioc-LATEST/ideal/raw-results
Name
Last modified
Size
Description
Parent Directory
-
kunpeng2/
04-May-2024 00:40
-
lconway/
04-May-2024 00:39
-
palomino3/
04-May-2024 00:38
-
nebbiolo1/
04-May-2024 00:37
-
info.dcf
04-May-2024 00:35
270
merida1/
05-Mar-2024 01:39
-