Index of /checkResults/release/bioc-LATEST/ideal/raw-results/kunpeng2
Name
Last modified
Size
Description
Parent Directory
-
buildsrc-out.txt
03-Nov-2023 00:40
869
buildsrc-summary.dcf
03-Nov-2023 00:40
322
install-out.txt
03-Nov-2023 00:40
607
install-summary.dcf
03-Nov-2023 00:40
251