Index of /checkResults/release/bioc-LATEST/hipathia/raw-results/lconway

[ICO]NameLast modifiedSizeDescription

[DIR]Parent Directory  -  
[TXT]buildbin-out.txt31-Jan-2023 01:08 1.2K 
[   ]buildbin-summary.dcf31-Jan-2023 01:08 536  
[TXT]buildsrc-out.txt31-Jan-2023 01:08 820  
[   ]buildsrc-summary.dcf31-Jan-2023 01:08 430  
[TXT]checksrc-out.txt31-Jan-2023 01:08 4.3K 
[   ]checksrc-summary.dcf31-Jan-2023 01:08 448  
[TXT]install-out.txt31-Jan-2023 01:08 1.0K 
[   ]install-summary.dcf31-Jan-2023 01:08 271