Index of /checkResults/release/bioc-LATEST/hipathia/raw-results

[ICO]NameLast modifiedSizeDescription

[DIR]Parent Directory  -  
[   ]info.dcf08-Dec-2022 01:08 281  
[DIR]kjohnson/12-Jul-2022 00:06 -  
[DIR]lconway/08-Dec-2022 01:08 -  
[DIR]nebbiolo2/08-Dec-2022 01:05 -  
[DIR]palomino4/08-Dec-2022 01:07 -