Back to Multiple platform build/check report for BioC 3.12
ABCDEF[G]HIJKLMNOPQRSTUVWXYZ

Multiple platform build/check report for BioC 3.12

All results for package goseq

This page was generated on 2021-04-14 12:08:04 -0400 (Wed, 14 Apr 2021).

Package 764/1974HostnameOS / ArchINSTALLBUILDCHECKBUILD BIN
goseq 1.42.0  (landing page)
Matthew Young , Nadia Davidson
Snapshot Date: 2021-04-13 14:50:13 -0400 (Tue, 13 Apr 2021)
URL: https://git.bioconductor.org/packages/goseq
Branch: RELEASE_3_12
Last Commit: 8164b90
Last Changed Date: 2020-10-27 10:37:59 -0400 (Tue, 27 Oct 2020)
malbec1Linux (Ubuntu 18.04.5 LTS) / x86_64  OK    OK    OK  UNNEEDED, same version exists in internal repository
tokay1Windows Server 2012 R2 Standard / x64  OK    OK    OK    OK  UNNEEDED, same version exists in internal repository
merida1macOS 10.14.6 Mojave / x86_64  OK    OK    OK    OK  UNNEEDED, same version exists in internal repository

Results for Bioconductor software packages that depend directly on package goseq

QUICK STATSOS / ArchINSTALLBUILDCHECKBUILD BIN
malbec1Linux (Ubuntu 18.04.5 LTS) / x86_64
014
014
0013
tokay1Windows Server 2012 R2 Standard / x64
014
014
0013
004
merida1macOS 10.14.6 Mojave / x86_64
014
014
0013
004
Package 1/5HostnameOS / ArchINSTALLBUILDCHECKBUILD BIN
ChAMP 2.20.1  (landing page)
Yuan Tian
Last Commit: 99ea046
Last Changed Date: 2020-11-02 15:38:54 -0400
malbec1Linux (Ubuntu 18.04.5 LTS) / x86_64  OK    OK    WARNINGS  UNNEEDED, same version exists in internal repository
tokay1Windows Server 2012 R2 Standard / x64  OK    OK    WARNINGS    OK  UNNEEDED, same version exists in internal repository
merida1macOS 10.14.6 Mojave / x86_64  OK    OK    WARNINGS    OK  UNNEEDED, same version exists in internal repository
Package 2/5HostnameOS / ArchINSTALLBUILDCHECKBUILD BIN
ideal 1.14.0  (landing page)
Federico Marini
Last Commit: 984d306
Last Changed Date: 2020-10-27 11:24:01 -0400
malbec1Linux (Ubuntu 18.04.5 LTS) / x86_64  OK    OK    OK  UNNEEDED, same version exists in internal repository
tokay1Windows Server 2012 R2 Standard / x64  OK    OK    OK    OK  UNNEEDED, same version exists in internal repository
merida1macOS 10.14.6 Mojave / x86_64  OK    OK    OK    OK  UNNEEDED, same version exists in internal repository
Package 3/5HostnameOS / ArchINSTALLBUILDCHECKBUILD BIN
PathwaySplice 1.14.0  (landing page)
Aimin Yan
Last Commit: ebde4c5
Last Changed Date: 2020-10-27 11:28:21 -0400
malbec1Linux (Ubuntu 18.04.5 LTS) / x86_64  ERROR    ERROR  skipped
tokay1Windows Server 2012 R2 Standard / x64  ERROR    ERROR  skippedskipped
merida1macOS 10.14.6 Mojave / x86_64  ERROR    ERROR  skippedskipped
Package 4/5HostnameOS / ArchINSTALLBUILDCHECKBUILD BIN
rgsepd 1.22.0  (landing page)
Karl Stamm
Last Commit: 3c6fade
Last Changed Date: 2020-10-27 11:01:40 -0400
malbec1Linux (Ubuntu 18.04.5 LTS) / x86_64  OK    OK    OK  UNNEEDED, same version exists in internal repository
tokay1Windows Server 2012 R2 Standard / x64  OK    OK    OK    OK  UNNEEDED, same version exists in internal repository
merida1macOS 10.14.6 Mojave / x86_64  OK    OK    OK    OK  UNNEEDED, same version exists in internal repository
Package 5/5HostnameOS / ArchINSTALLBUILDCHECKBUILD BIN
SMITE 1.18.0  (landing page)
Neil Ari Wijetunga
Last Commit: 7c95087
Last Changed Date: 2020-10-27 11:11:05 -0400
malbec1Linux (Ubuntu 18.04.5 LTS) / x86_64  OK    OK    OK  UNNEEDED, same version exists in internal repository
tokay1Windows Server 2012 R2 Standard / x64  OK    OK    OK    OK  UNNEEDED, same version exists in internal repository
merida1macOS 10.14.6 Mojave / x86_64  OK    OK    OK    OK  UNNEEDED, same version exists in internal repository