Index of /checkResults/release/bioc-LATEST/genomeIntervals/raw-results

[ICO]NameLast modifiedSizeDescription

[DIR]Parent Directory  -  
[   ]info.dcf21-Sep-2023 01:07 286  
[DIR]merida1/20-Sep-2023 00:37 -  
[DIR]nebbiolo1/21-Sep-2023 01:06 -  
[DIR]palomino3/21-Sep-2023 01:07 -