Index of /checkResults/release/bioc-LATEST/genomeIntervals/raw-results/nebbiolo1

[ICO]NameLast modifiedSizeDescription

[DIR]Parent Directory  -  
[TXT]buildsrc-out.txt20-Jul-2024 06:37 901  
[   ]buildsrc-summary.dcf20-Jul-2024 06:37 441  
[TXT]checksrc-out.txt20-Jul-2024 06:37 8.2K 
[   ]checksrc-summary.dcf20-Jul-2024 06:37 451  
[TXT]install-out.txt20-Jul-2024 06:37 1.0K 
[   ]install-summary.dcf20-Jul-2024 06:37 275