Index of /checkResults/release/bioc-LATEST/genefilter/raw-results

[ICO]NameLast modifiedSizeDescription

[DIR]Parent Directory  -  
[DIR]kunpeng2/03-Nov-2023 00:40 -  
[DIR]nebbiolo2/07-Dec-2023 01:35 -  
[DIR]palomino4/07-Dec-2023 01:36 -  
[   ]info.dcf07-Dec-2023 01:37 303  
[DIR]lconway/07-Dec-2023 01:37 -