Back to Build/check report for BioC 3.17:   simplified   long
ABCDEF[G]HIJKLMNOPQRSTUVWXYZ

This page was generated on 2023-05-31 00:20:14 -0400 (Wed, 31 May 2023).

HostnameOSArch (*)R versionInstalled pkgs
nebbiolo1Linux (Ubuntu 22.04.2 LTS)x86_644.3.0 alpha (2023-04-02 r84146) 229
Click on any hostname to see more info about the system (e.g. compilers)      (*) as reported by 'uname -p', except on Windows and Mac OS X

All results for package genefilter


To the developers/maintainers of the genefilter package:
- Allow up to 24 hours (and sometimes 48 hours) for your latest push to git@git.bioconductor.org:packages/genefilter.git to reflect on this report. See Troubleshooting Build Report for more information.

- Use the following Renviron settings to reproduce errors and warnings.

Note: If "R CMD check" recently failed on the Linux builder over a missing dependency, add the missing dependency to "Suggests" in your DESCRIPTION file. See the Renviron.bioc for details.

raw results

Package 4/5HostnameOS / ArchINSTALLBUILDCHECKBUILD BIN
genefilter 1.82.1  (landing page)
Bioconductor Package Maintainer
Snapshot Date: 2023-05-30 23:39:27 -0400 (Tue, 30 May 2023)
git_url: https://git.bioconductor.org/packages/genefilter
git_branch: RELEASE_3_17
git_last_commit: f4dadae
git_last_commit_date: 2023-05-01 20:10:27 -0400 (Mon, 01 May 2023)
nebbiolo1Linux (Ubuntu 22.04.2 LTS) / x86_64  OK    OK    ERROR