Back to Multiple platform build/check report for BioC 3.18:   simplified   long
ABCDEF[G]HIJKLMNOPQRSTUVWXYZ

This page was generated on 2024-03-29 11:35:04 -0400 (Fri, 29 Mar 2024).

HostnameOSArch (*)R versionInstalled pkgs
nebbiolo2Linux (Ubuntu 22.04.3 LTS)x86_644.3.3 (2024-02-29) -- "Angel Food Cake" 4669
palomino4Windows Server 2022 Datacenterx644.3.3 (2024-02-29 ucrt) -- "Angel Food Cake" 4404
merida1macOS 12.7.1 Montereyx86_644.3.3 (2024-02-29) -- "Angel Food Cake" 4427
Click on any hostname to see more info about the system (e.g. compilers)      (*) as reported by 'uname -p', except on Windows and Mac OS X

All results for package gdsfmt


To the developers/maintainers of the gdsfmt package:
- Allow up to 24 hours (and sometimes 48 hours) for your latest push to git@git.bioconductor.org:packages/gdsfmt.git to reflect on this report. See Troubleshooting Build Report for more information.
- Use the following Renviron settings to reproduce errors and warnings.
- If 'R CMD check' started to fail recently on the Linux builder(s) over a missing dependency, add the missing dependency to 'Suggests:' in your DESCRIPTION file. See Renviron.bioc for more information.

raw results

Package 783/2266HostnameOS / ArchINSTALLBUILDCHECKBUILD BIN
gdsfmt 1.38.0  (landing page)
Xiuwen Zheng
Snapshot Date: 2024-03-27 14:05:05 -0400 (Wed, 27 Mar 2024)
git_url: https://git.bioconductor.org/packages/gdsfmt
git_branch: RELEASE_3_18
git_last_commit: 47ebf72
git_last_commit_date: 2023-10-24 10:41:01 -0400 (Tue, 24 Oct 2023)
nebbiolo2Linux (Ubuntu 22.04.3 LTS) / x86_64  OK    OK    OK  UNNEEDED, same version is already published
palomino4Windows Server 2022 Datacenter / x64  OK    OK    OK    OK  UNNEEDED, same version is already published
merida1macOS 12.7.1 Monterey / x86_64  OK    OK    OK    OK  UNNEEDED, same version is already published
kjohnson1macOS 13.6.1 Ventura / arm64see weekly results here

Results for Bioconductor software packages that depend directly on package gdsfmt

QUICK STATSOS / ArchINSTALLBUILDCHECKBUILD BIN
nebbiolo2Linux (Ubuntu 22.04.3 LTS) / x86_64
0115
0214
0149
palomino4Windows Server 2022 Datacenter / x64
0115
0115
01410
0015
merida1macOS 12.7.1 Monterey / x86_64
0115
0115
01410
0015
Package 1/16HostnameOS / ArchINSTALLBUILDCHECKBUILD BIN
bigmelon 1.28.0  (landing page)
Leonard C. Schalkwyk
git_last_commit: 80fe6d4
git_last_commit_date: 2023-10-24 10:52:46 -0400
nebbiolo2Linux (Ubuntu 22.04.3 LTS) / x86_64  OK    OK    WARNINGS  UNNEEDED, same version is already published
palomino4Windows Server 2022 Datacenter / x64  OK    OK    WARNINGS    OK  UNNEEDED, same version is already published
merida1macOS 12.7.1 Monterey / x86_64  OK    OK    WARNINGS    OK  UNNEEDED, same version is already published
kjohnson1macOS 13.6.1 Ventura / arm64see weekly results here
Package 2/16HostnameOS / ArchINSTALLBUILDCHECKBUILD BIN
CNVRanger 1.18.1  (landing page)
Ludwig Geistlinger
git_last_commit: bccc306
git_last_commit_date: 2024-02-24 16:54:29 -0400
nebbiolo2Linux (Ubuntu 22.04.3 LTS) / x86_64  OK    ERROR  skipped
palomino4Windows Server 2022 Datacenter / x64  OK    OK    OK    OK  UNNEEDED, same version is already published
merida1macOS 12.7.1 Monterey / x86_64  OK    OK    OK    OK  UNNEEDED, same version is already published
kjohnson1macOS 13.6.1 Ventura / arm64see weekly results here
Package 3/16HostnameOS / ArchINSTALLBUILDCHECKBUILD BIN
GBScleanR 1.6.0  (landing page)
Tomoyuki Furuta
git_last_commit: f849068
git_last_commit_date: 2023-10-24 11:38:50 -0400
nebbiolo2Linux (Ubuntu 22.04.3 LTS) / x86_64  OK    OK    OK  UNNEEDED, same version is already published
palomino4Windows Server 2022 Datacenter / x64  OK    OK    OK    OK  UNNEEDED, same version is already published
merida1macOS 12.7.1 Monterey / x86_64  OK    OK    OK    OK  UNNEEDED, same version is already published
kjohnson1macOS 13.6.1 Ventura / arm64see weekly results here
Package 4/16HostnameOS / ArchINSTALLBUILDCHECKBUILD BIN
GDSArray 1.22.0  (landing page)
Qian Liu
git_last_commit: 5357cff
git_last_commit_date: 2023-10-24 11:04:10 -0400
nebbiolo2Linux (Ubuntu 22.04.3 LTS) / x86_64  OK    OK    OK  UNNEEDED, same version is already published
palomino4Windows Server 2022 Datacenter / x64  OK    OK    OK    OK  UNNEEDED, same version is already published
merida1macOS 12.7.1 Monterey / x86_64  OK    OK    OK    OK  UNNEEDED, same version is already published
kjohnson1macOS 13.6.1 Ventura / arm64see weekly results here
Package 5/16HostnameOS / ArchINSTALLBUILDCHECKBUILD BIN
GENESIS 2.32.0  (landing page)
Stephanie M. Gogarten
git_last_commit: 81fe6b1
git_last_commit_date: 2023-10-24 10:42:12 -0400
nebbiolo2Linux (Ubuntu 22.04.3 LTS) / x86_64  OK    OK    OK  UNNEEDED, same version is already published
palomino4Windows Server 2022 Datacenter / x64  OK    OK    OK    OK  UNNEEDED, same version is already published
merida1macOS 12.7.1 Monterey / x86_64  OK    OK    OK    OK  UNNEEDED, same version is already published
kjohnson1macOS 13.6.1 Ventura / arm64see weekly results here
Package 6/16HostnameOS / ArchINSTALLBUILDCHECKBUILD BIN
ggmanh 1.6.0  (landing page)
John Lee
git_last_commit: 4855870
git_last_commit_date: 2023-10-24 11:38:35 -0400
nebbiolo2Linux (Ubuntu 22.04.3 LTS) / x86_64  OK    OK    WARNINGS  UNNEEDED, same version is already published
palomino4Windows Server 2022 Datacenter / x64  OK    OK    WARNINGS    OK  UNNEEDED, same version is already published
merida1macOS 12.7.1 Monterey / x86_64  OK    OK    WARNINGS    OK  UNNEEDED, same version is already published
kjohnson1macOS 13.6.1 Ventura / arm64see weekly results here
Package 7/16HostnameOS / ArchINSTALLBUILDCHECKBUILD BIN
GWASTools 1.48.0  (landing page)
Stephanie M. Gogarten
git_last_commit: 1eb1398
git_last_commit_date: 2023-10-24 09:48:18 -0400
nebbiolo2Linux (Ubuntu 22.04.3 LTS) / x86_64  OK    OK    OK  UNNEEDED, same version is already published
palomino4Windows Server 2022 Datacenter / x64  OK    OK    OK    OK  UNNEEDED, same version is already published
merida1macOS 12.7.1 Monterey / x86_64  OK    OK    OK    OK  UNNEEDED, same version is already published
kjohnson1macOS 13.6.1 Ventura / arm64see weekly results here
Package 8/16HostnameOS / ArchINSTALLBUILDCHECKBUILD BIN
RAIDS 1.0.0  (landing page)
Pascal Belleau
git_last_commit: 12ea1e7
git_last_commit_date: 2023-10-24 11:51:36 -0400
nebbiolo2Linux (Ubuntu 22.04.3 LTS) / x86_64  OK    OK    OK  UNNEEDED, same version is already published
palomino4Windows Server 2022 Datacenter / x64  OK    OK    OK    OK  UNNEEDED, same version is already published
merida1macOS 12.7.1 Monterey / x86_64  OK    OK    OK    OK  UNNEEDED, same version is already published
kjohnson1macOS 13.6.1 Ventura / arm64see weekly results here
Package 9/16HostnameOS / ArchINSTALLBUILDCHECKBUILD BIN
SAIGEgds 2.2.1  (landing page)
Xiuwen Zheng
git_last_commit: 511d2b8
git_last_commit_date: 2024-01-27 01:17:00 -0400
nebbiolo2Linux (Ubuntu 22.04.3 LTS) / x86_64  OK    OK    OK  UNNEEDED, same version is already published
palomino4Windows Server 2022 Datacenter / x64  OK    OK    OK    OK  UNNEEDED, same version is already published
merida1macOS 12.7.1 Monterey / x86_64  OK    OK    OK    OK  UNNEEDED, same version is already published
kjohnson1macOS 13.6.1 Ventura / arm64see weekly results here
Package 10/16HostnameOS / ArchINSTALLBUILDCHECKBUILD BIN
SCArray 1.10.0  (landing page)
Xiuwen Zheng
git_last_commit: 0761825
git_last_commit_date: 2023-10-24 11:29:01 -0400
nebbiolo2Linux (Ubuntu 22.04.3 LTS) / x86_64  OK    OK    OK  UNNEEDED, same version is already published
palomino4Windows Server 2022 Datacenter / x64  OK    OK    OK    OK  UNNEEDED, same version is already published
merida1macOS 12.7.1 Monterey / x86_64  OK    OK    OK    OK  UNNEEDED, same version is already published
kjohnson1macOS 13.6.1 Ventura / arm64see weekly results here
Package 11/16HostnameOS / ArchINSTALLBUILDCHECKBUILD BIN
SCArray.sat 1.2.1  (landing page)
Xiuwen Zheng
git_last_commit: 9bfe743
git_last_commit_date: 2024-01-16 01:57:43 -0400
nebbiolo2Linux (Ubuntu 22.04.3 LTS) / x86_64  OK    OK    WARNINGS  UNNEEDED, same version is already published
palomino4Windows Server 2022 Datacenter / x64  OK    OK    WARNINGS    OK  UNNEEDED, same version is already published
merida1macOS 12.7.1 Monterey / x86_64  OK    OK    WARNINGS    OK  UNNEEDED, same version is already published
kjohnson1macOS 13.6.1 Ventura / arm64see weekly results here
Package 12/16HostnameOS / ArchINSTALLBUILDCHECKBUILD BIN
SeqArray 1.42.3  (landing page)
Xiuwen Zheng
git_last_commit: ceb8c36
git_last_commit_date: 2024-03-23 00:48:58 -0400
nebbiolo2Linux (Ubuntu 22.04.3 LTS) / x86_64  OK    OK    OK  UNNEEDED, same version is already published
palomino4Windows Server 2022 Datacenter / x64  OK    OK    OK    OK  UNNEEDED, same version is already published
merida1macOS 12.7.1 Monterey / x86_64  OK    OK    OK    OK  UNNEEDED, same version is already published
kjohnson1macOS 13.6.1 Ventura / arm64see weekly results here
Package 13/16HostnameOS / ArchINSTALLBUILDCHECKBUILD BIN
SeqSQC 1.24.0  (landing page)
Qian Liu
git_last_commit: 6197238
git_last_commit_date: 2023-10-24 11:01:01 -0400
nebbiolo2Linux (Ubuntu 22.04.3 LTS) / x86_64  ERROR    ERROR  skipped
palomino4Windows Server 2022 Datacenter / x64  ERROR    ERROR  skippedskipped
merida1macOS 12.7.1 Monterey / x86_64  ERROR    ERROR  skippedskipped
kjohnson1macOS 13.6.1 Ventura / arm64see weekly results here
Package 14/16HostnameOS / ArchINSTALLBUILDCHECKBUILD BIN
SeqVarTools 1.40.0  (landing page)
Stephanie M. Gogarten
git_last_commit: 1b6957a
git_last_commit_date: 2023-10-24 09:55:19 -0400
nebbiolo2Linux (Ubuntu 22.04.3 LTS) / x86_64  OK    OK    ERROR  
palomino4Windows Server 2022 Datacenter / x64  OK    OK    ERROR    OK  
merida1macOS 12.7.1 Monterey / x86_64  OK    OK    ERROR    OK  
kjohnson1macOS 13.6.1 Ventura / arm64see weekly results here
Package 15/16HostnameOS / ArchINSTALLBUILDCHECKBUILD BIN
SNPRelate 1.36.1  (landing page)
Xiuwen Zheng
git_last_commit: edb77b3
git_last_commit_date: 2024-02-26 01:42:34 -0400
nebbiolo2Linux (Ubuntu 22.04.3 LTS) / x86_64  OK    OK    OK  UNNEEDED, same version is already published
palomino4Windows Server 2022 Datacenter / x64  OK    OK    OK    OK  UNNEEDED, same version is already published
merida1macOS 12.7.1 Monterey / x86_64  OK    OK    OK    OK  UNNEEDED, same version is already published
kjohnson1macOS 13.6.1 Ventura / arm64see weekly results here
Package 16/16HostnameOS / ArchINSTALLBUILDCHECKBUILD BIN
VariantExperiment 1.16.0  (landing page)
Qian Liu
git_last_commit: 1e2834f
git_last_commit_date: 2023-10-24 11:15:51 -0400
nebbiolo2Linux (Ubuntu 22.04.3 LTS) / x86_64  OK    OK    WARNINGS  UNNEEDED, same version is already published
palomino4Windows Server 2022 Datacenter / x64  OK    OK    WARNINGS    OK  UNNEEDED, same version is already published
merida1macOS 12.7.1 Monterey / x86_64  OK    OK    WARNINGS    OK  UNNEEDED, same version is already published
kjohnson1macOS 13.6.1 Ventura / arm64see weekly results here