Back to Multiple platform build/check report for BioC 3.19:   simplified   long
AB[C]DEFGHIJKLMNOPQRSTUVWXYZ

This page was generated on 2024-06-11 14:38 -0400 (Tue, 11 Jun 2024).

HostnameOSArch (*)R versionInstalled pkgs
nebbiolo1Linux (Ubuntu 22.04.3 LTS)x86_644.4.0 (2024-04-24) -- "Puppy Cup" 4757
palomino3Windows Server 2022 Datacenterx644.4.0 (2024-04-24 ucrt) -- "Puppy Cup" 4491
lconwaymacOS 12.7.1 Montereyx86_644.4.0 (2024-04-24) -- "Puppy Cup" 4522
kjohnson3macOS 13.6.5 Venturaarm644.4.0 (2024-04-24) -- "Puppy Cup" 4468
Click on any hostname to see more info about the system (e.g. compilers)      (*) as reported by 'uname -p', except on Windows and Mac OS X

All results for package crisprScore


To the developers/maintainers of the crisprScore package:
- Allow up to 24 hours (and sometimes 48 hours) for your latest push to git@git.bioconductor.org:packages/crisprScore.git to reflect on this report. See Troubleshooting Build Report for more information.
- Use the following Renviron settings to reproduce errors and warnings.
- If 'R CMD check' started to fail recently on the Linux builder(s) over a missing dependency, add the missing dependency to 'Suggests:' in your DESCRIPTION file. See Renviron.bioc for more information.

raw results

Package 462/2300HostnameOS / ArchINSTALLBUILDCHECKBUILD BIN
crisprScore 1.8.0  (landing page)
Jean-Philippe Fortin
Snapshot Date: 2024-06-09 14:00 -0400 (Sun, 09 Jun 2024)
git_url: https://git.bioconductor.org/packages/crisprScore
git_branch: RELEASE_3_19
git_last_commit: af3634d
git_last_commit_date: 2024-04-30 11:39:45 -0400 (Tue, 30 Apr 2024)
nebbiolo1Linux (Ubuntu 22.04.3 LTS) / x86_64  OK    OK    OK  UNNEEDED, same version is already published
palomino3Windows Server 2022 Datacenter / x64  OK    OK    OK    OK  UNNEEDED, same version is already published
lconwaymacOS 12.7.1 Monterey / x86_64  OK    OK    OK    OK  UNNEEDED, same version is already published
kjohnson3macOS 13.6.5 Ventura / arm64  OK    OK    OK    OK  UNNEEDED, same version is already published



Results for Bioconductor software packages that depend directly on package crisprScore

QUICK STATSOS / ArchINSTALLBUILDCHECKBUILD BIN
nebbiolo1Linux (Ubuntu 22.04.3 LTS) / x86_64
003
003
0003
palomino3Windows Server 2022 Datacenter / x64
003
003
0003
003
lconwaymacOS 12.7.1 Monterey / x86_64
003
003
0003
003
kjohnson3macOS 13.6.5 Ventura / arm64
003
003
0003
003
Package 1/3HostnameOS / ArchINSTALLBUILDCHECKBUILD BIN
crisprDesign 1.6.0  (landing page)
Jean-Philippe Fortin
git_last_commit: 9c8b631
git_last_commit_date: 2024-04-30 11:43:47 -0400
nebbiolo1Linux (Ubuntu 22.04.3 LTS) / x86_64  OK    OK    OK  UNNEEDED, same version is already published
palomino3Windows Server 2022 Datacenter / x64  OK    OK    OK    OK  UNNEEDED, same version is already published
lconwaymacOS 12.7.1 Monterey / x86_64  OK    OK    OK    OK  UNNEEDED, same version is already published
kjohnson3macOS 13.6.5 Ventura / arm64  OK    OK    OK    OK  UNNEEDED, same version is already published
Package 2/3HostnameOS / ArchINSTALLBUILDCHECKBUILD BIN
crisprShiny 1.0.0  (landing page)
Jean-Philippe Fortin
git_last_commit: fa59fba
git_last_commit_date: 2024-04-30 11:54:23 -0400
nebbiolo1Linux (Ubuntu 22.04.3 LTS) / x86_64  OK    OK    OK  UNNEEDED, same version is already published
palomino3Windows Server 2022 Datacenter / x64  OK    OK    OK    OK  UNNEEDED, same version is already published
lconwaymacOS 12.7.1 Monterey / x86_64  OK    OK    OK    OK  UNNEEDED, same version is already published
kjohnson3macOS 13.6.5 Ventura / arm64  OK    OK    OK    OK  UNNEEDED, same version is already published
Package 3/3HostnameOS / ArchINSTALLBUILDCHECKBUILD BIN
crisprVerse 1.6.0  (landing page)
Jean-Philippe Fortin
git_last_commit: db98c24
git_last_commit_date: 2024-04-30 11:44:09 -0400
nebbiolo1Linux (Ubuntu 22.04.3 LTS) / x86_64  OK    OK    OK  UNNEEDED, same version is already published
palomino3Windows Server 2022 Datacenter / x64  OK    OK    OK    OK  UNNEEDED, same version is already published
lconwaymacOS 12.7.1 Monterey / x86_64  OK    OK    OK    OK  UNNEEDED, same version is already published
kjohnson3macOS 13.6.5 Ventura / arm64  OK    OK    OK    OK  UNNEEDED, same version is already published