Back to Multiple platform build/check report for BioC 3.18:   simplified   long
AB[C]DEFGHIJKLMNOPQRSTUVWXYZ

This page was generated on 2024-02-28 11:35:54 -0500 (Wed, 28 Feb 2024).

HostnameOSArch (*)R versionInstalled pkgs
nebbiolo2Linux (Ubuntu 22.04.3 LTS)x86_644.3.2 Patched (2023-11-13 r85521) -- "Eye Holes" 4692
palomino4Windows Server 2022 Datacenterx644.3.2 (2023-10-31 ucrt) -- "Eye Holes" 4445
lconwaymacOS 12.7.1 Montereyx86_644.3.2 Patched (2023-11-01 r85457) -- "Eye Holes" 4466
Click on any hostname to see more info about the system (e.g. compilers)      (*) as reported by 'uname -p', except on Windows and Mac OS X

Package 455/2266HostnameOS / ArchINSTALLBUILDCHECKBUILD BIN
crisprBwa 1.6.0  (landing page)
Jean-Philippe Fortin
Snapshot Date: 2024-02-27 14:05:07 -0500 (Tue, 27 Feb 2024)
git_url: https://git.bioconductor.org/packages/crisprBwa
git_branch: RELEASE_3_18
git_last_commit: e4775a7
git_last_commit_date: 2023-10-24 11:41:41 -0500 (Tue, 24 Oct 2023)
nebbiolo2Linux (Ubuntu 22.04.3 LTS) / x86_64  OK    OK    OK  UNNEEDED, same version is already published
palomino4Windows Server 2022 Datacenter / x64... NOT SUPPORTED ...
lconwaymacOS 12.7.1 Monterey / x86_64  OK    OK    OK    OK  UNNEEDED, same version is already published
kjohnson1macOS 13.6.1 Ventura / arm64see weekly results here

CHECK results for crisprBwa on nebbiolo2


To the developers/maintainers of the crisprBwa package:
- Allow up to 24 hours (and sometimes 48 hours) for your latest push to git@git.bioconductor.org:packages/crisprBwa.git to reflect on this report. See Troubleshooting Build Report for more information.
- Use the following Renviron settings to reproduce errors and warnings.
- If 'R CMD check' started to fail recently on the Linux builder(s) over a missing dependency, add the missing dependency to 'Suggests:' in your DESCRIPTION file. See Renviron.bioc for more information.

raw results


Summary

Package: crisprBwa
Version: 1.6.0
Command: /home/biocbuild/bbs-3.18-bioc/R/bin/R CMD check --install=check:crisprBwa.install-out.txt --library=/home/biocbuild/bbs-3.18-bioc/R/site-library --timings crisprBwa_1.6.0.tar.gz
StartedAt: 2024-02-27 21:18:34 -0500 (Tue, 27 Feb 2024)
EndedAt: 2024-02-27 21:22:38 -0500 (Tue, 27 Feb 2024)
EllapsedTime: 244.2 seconds
RetCode: 0
Status:   OK  
CheckDir: crisprBwa.Rcheck
Warnings: 0

Command output

##############################################################################
##############################################################################
###
### Running command:
###
###   /home/biocbuild/bbs-3.18-bioc/R/bin/R CMD check --install=check:crisprBwa.install-out.txt --library=/home/biocbuild/bbs-3.18-bioc/R/site-library --timings crisprBwa_1.6.0.tar.gz
###
##############################################################################
##############################################################################


* using log directory ‘/home/biocbuild/bbs-3.18-bioc/meat/crisprBwa.Rcheck’
* using R version 4.3.2 Patched (2023-11-13 r85521)
* using platform: x86_64-pc-linux-gnu (64-bit)
* R was compiled by
    gcc (Ubuntu 11.4.0-1ubuntu1~22.04) 11.4.0
    GNU Fortran (Ubuntu 11.4.0-1ubuntu1~22.04) 11.4.0
* running under: Ubuntu 22.04.3 LTS
* using session charset: UTF-8
* checking for file ‘crisprBwa/DESCRIPTION’ ... OK
* this is package ‘crisprBwa’ version ‘1.6.0’
* package encoding: UTF-8
* checking package namespace information ... OK
* checking package dependencies ... OK
* checking if this is a source package ... OK
* checking if there is a namespace ... OK
* checking for hidden files and directories ... NOTE
Found the following hidden files and directories:
  .BBSoptions
These were most likely included in error. See section ‘Package
structure’ in the ‘Writing R Extensions’ manual.
* checking for portable file names ... OK
* checking for sufficient/correct file permissions ... OK
* checking whether package ‘crisprBwa’ can be installed ... OK
* checking installed package size ... OK
* checking package directory ... OK
* checking ‘build’ directory ... OK
* checking DESCRIPTION meta-information ... OK
* checking top-level files ... OK
* checking for left-over files ... OK
* checking index information ... OK
* checking package subdirectories ... OK
* checking R files for non-ASCII characters ... OK
* checking R files for syntax errors ... OK
* checking whether the package can be loaded ... OK
* checking whether the package can be loaded with stated dependencies ... OK
* checking whether the package can be unloaded cleanly ... OK
* checking whether the namespace can be loaded with stated dependencies ... OK
* checking whether the namespace can be unloaded cleanly ... OK
* checking loading without being on the library search path ... OK
* checking dependencies in R code ... OK
* checking S3 generic/method consistency ... OK
* checking replacement functions ... OK
* checking foreign function calls ... OK
* checking R code for possible problems ... OK
* checking Rd files ... OK
* checking Rd metadata ... OK
* checking Rd cross-references ... OK
* checking for missing documentation entries ... OK
* checking for code/documentation mismatches ... OK
* checking Rd \usage sections ... OK
* checking Rd contents ... OK
* checking for unstated dependencies in examples ... OK
* checking files in ‘vignettes’ ... OK
* checking examples ... OK
* checking for unstated dependencies in ‘tests’ ... OK
* checking tests ...
  Running ‘testthat.R’
 OK
* checking for unstated dependencies in vignettes ... OK
* checking package vignettes in ‘inst/doc’ ... OK
* checking running R code from vignettes ...
  ‘crisprBwa.Rmd’ using ‘UTF-8’... OK
 NONE
* checking re-building of vignette outputs ... OK
* checking PDF version of manual ... OK
* DONE

Status: 1 NOTE
See
  ‘/home/biocbuild/bbs-3.18-bioc/meat/crisprBwa.Rcheck/00check.log’
for details.



Installation output

crisprBwa.Rcheck/00install.out

##############################################################################
##############################################################################
###
### Running command:
###
###   /home/biocbuild/bbs-3.18-bioc/R/bin/R CMD INSTALL crisprBwa
###
##############################################################################
##############################################################################


* installing to library ‘/home/biocbuild/bbs-3.18-bioc/R/site-library’
* installing *source* package ‘crisprBwa’ ...
** using staged installation
** R
** inst
** byte-compile and prepare package for lazy loading
** help
*** installing help indices
** building package indices
** installing vignettes
** testing if installed package can be loaded from temporary location
** testing if installed package can be loaded from final location
** testing if installed package keeps a record of temporary installation path
* DONE (crisprBwa)

Tests output

crisprBwa.Rcheck/tests/testthat.Rout


R version 4.3.2 Patched (2023-11-13 r85521) -- "Eye Holes"
Copyright (C) 2023 The R Foundation for Statistical Computing
Platform: x86_64-pc-linux-gnu (64-bit)

R is free software and comes with ABSOLUTELY NO WARRANTY.
You are welcome to redistribute it under certain conditions.
Type 'license()' or 'licence()' for distribution details.

R is a collaborative project with many contributors.
Type 'contributors()' for more information and
'citation()' on how to cite R or R packages in publications.

Type 'demo()' for some demos, 'help()' for on-line help, or
'help.start()' for an HTML browser interface to help.
Type 'q()' to quit R.

> library(testthat)
> library(crisprBwa)
> 
> test_check("crisprBwa")
[bwa_index] Pack FASTA... 0.00 sec
[bwa_index] Construct BWT for the packed sequence...
[bwa_index] 0.04 seconds elapse.
[bwa_index] Update BWT... 0.00 sec
[bwa_index] Pack forward-only FASTA... 0.00 sec
[bwa_index] Construct SA from BWT and Occ... 0.02 sec
[main] Version: 0.7.17-r1198-dirty
[main] CMD: /home/biocbuild/bbs-3.18-bioc/R/site-library/Rbwa/bwa index -p /tmp/RtmpXklf9S/chr12 /home/biocbuild/bbs-3.18-bioc/R/site-library/crisprBwa/example/chr12.fa
[main] Real time: 0.065 sec; CPU: 0.058 sec
[bwa_aln_core] calculate SA coordinate... 0.00 sec
[bwa_aln_core] write to the disk... 0.00 sec
[bwa_aln_core] 3 sequences have been processed.
[main] Version: 0.7.17-r1198-dirty
[main] CMD: /home/biocbuild/bbs-3.18-bioc/R/site-library/Rbwa/bwa aln -N -n 0 -l 36 -o 0 /tmp/RtmpXklf9S/chr12 /tmp/RtmpXklf9S/file3fd9ad101018b7
[main] Real time: 0.002 sec; CPU: 0.003 sec
[bwa_aln_core] convert to sequence coordinate... 0.00 sec
[bwa_aln_core] refine gapped alignments... 0.00 sec
[bwa_aln_core] print alignments... 0.00 sec
[bwa_aln_core] 3 sequences have been processed.
[main] Version: 0.7.17-r1198-dirty
[main] CMD: /home/biocbuild/bbs-3.18-bioc/R/site-library/Rbwa/bwa samse -n 1000000000 /tmp/RtmpXklf9S/chr12 /tmp/RtmpXklf9S/file3fd9ad101018b7.sai /tmp/RtmpXklf9S/file3fd9ad101018b7
[main] Real time: 0.001 sec; CPU: 0.001 sec
[bwa_aln_core] calculate SA coordinate... 0.00 sec
[bwa_aln_core] write to the disk... 0.00 sec
[bwa_aln_core] 3 sequences have been processed.
[main] Version: 0.7.17-r1198-dirty
[main] CMD: /home/biocbuild/bbs-3.18-bioc/R/site-library/Rbwa/bwa aln -N -n 1 -l 36 -o 0 /tmp/RtmpXklf9S/chr12 /tmp/RtmpXklf9S/file3fd9ad2f36e8c4
[main] Real time: 0.002 sec; CPU: 0.001 sec
[bwa_aln_core] convert to sequence coordinate... 0.00 sec
[bwa_aln_core] refine gapped alignments... 0.00 sec
[bwa_aln_core] print alignments... 0.00 sec
[bwa_aln_core] 3 sequences have been processed.
[main] Version: 0.7.17-r1198-dirty
[main] CMD: /home/biocbuild/bbs-3.18-bioc/R/site-library/Rbwa/bwa samse -n 1000000000 /tmp/RtmpXklf9S/chr12 /tmp/RtmpXklf9S/file3fd9ad2f36e8c4.sai /tmp/RtmpXklf9S/file3fd9ad2f36e8c4
[main] Real time: 0.001 sec; CPU: 0.001 sec
[bwa_aln_core] calculate SA coordinate... 0.00 sec
[bwa_aln_core] write to the disk... 0.00 sec
[bwa_aln_core] 3 sequences have been processed.
[main] Version: 0.7.17-r1198-dirty
[main] CMD: /home/biocbuild/bbs-3.18-bioc/R/site-library/Rbwa/bwa aln -N -n 2 -l 36 -o 0 /tmp/RtmpXklf9S/chr12 /tmp/RtmpXklf9S/file3fd9ad2b069a9d
[main] Real time: 0.002 sec; CPU: 0.002 sec
[bwa_aln_core] convert to sequence coordinate... 0.00 sec
[bwa_aln_core] refine gapped alignments... 0.00 sec
[bwa_aln_core] print alignments... 0.00 sec
[bwa_aln_core] 3 sequences have been processed.
[main] Version: 0.7.17-r1198-dirty
[main] CMD: /home/biocbuild/bbs-3.18-bioc/R/site-library/Rbwa/bwa samse -n 1000000000 /tmp/RtmpXklf9S/chr12 /tmp/RtmpXklf9S/file3fd9ad2b069a9d.sai /tmp/RtmpXklf9S/file3fd9ad2b069a9d
[main] Real time: 0.001 sec; CPU: 0.001 sec
[bwa_aln_core] calculate SA coordinate... 0.00 sec
[bwa_aln_core] write to the disk... 0.00 sec
[bwa_aln_core] 3 sequences have been processed.
[main] Version: 0.7.17-r1198-dirty
[main] CMD: /home/biocbuild/bbs-3.18-bioc/R/site-library/Rbwa/bwa aln -N -n 3 -l 36 -o 0 /tmp/RtmpXklf9S/chr12 /tmp/RtmpXklf9S/file3fd9ad21175964
[main] Real time: 0.002 sec; CPU: 0.002 sec
[bwa_aln_core] convert to sequence coordinate... 0.00 sec
[bwa_aln_core] refine gapped alignments... 0.00 sec
[bwa_aln_core] print alignments... 0.00 sec
[bwa_aln_core] 3 sequences have been processed.
[main] Version: 0.7.17-r1198-dirty
[main] CMD: /home/biocbuild/bbs-3.18-bioc/R/site-library/Rbwa/bwa samse -n 1000000000 /tmp/RtmpXklf9S/chr12 /tmp/RtmpXklf9S/file3fd9ad21175964.sai /tmp/RtmpXklf9S/file3fd9ad21175964
[main] Real time: 0.001 sec; CPU: 0.001 sec
[bwa_aln_core] calculate SA coordinate... 0.00 sec
[bwa_aln_core] write to the disk... 0.00 sec
[bwa_aln_core] 1 sequences have been processed.
[main] Version: 0.7.17-r1198-dirty
[main] CMD: /home/biocbuild/bbs-3.18-bioc/R/site-library/Rbwa/bwa aln -N -n 0 -l 144 -o 0 /tmp/RtmpXklf9S/chr12 /tmp/RtmpXklf9S/file3fd9ad3e5c3761
[main] Real time: 0.001 sec; CPU: 0.001 sec
[bwa_aln_core] convert to sequence coordinate... 0.00 sec
[bwa_aln_core] refine gapped alignments... 0.00 sec
[bwa_aln_core] print alignments... 0.00 sec
[bwa_aln_core] 1 sequences have been processed.
[main] Version: 0.7.17-r1198-dirty
[main] CMD: /home/biocbuild/bbs-3.18-bioc/R/site-library/Rbwa/bwa samse -n 1000000000 /tmp/RtmpXklf9S/chr12 /tmp/RtmpXklf9S/file3fd9ad3e5c3761.sai /tmp/RtmpXklf9S/file3fd9ad3e5c3761
[main] Real time: 0.002 sec; CPU: 0.002 sec
[bwa_index] Pack FASTA... 0.00 sec
[bwa_index] Construct BWT for the packed sequence...
[bwa_index] 0.04 seconds elapse.
[bwa_index] Update BWT... 0.00 sec
[bwa_index] Pack forward-only FASTA... 0.00 sec
[bwa_index] Construct SA from BWT and Occ... 0.02 sec
[main] Version: 0.7.17-r1198-dirty
[main] CMD: /home/biocbuild/bbs-3.18-bioc/R/site-library/Rbwa/bwa index -p /tmp/RtmpXklf9S/chr12 /home/biocbuild/bbs-3.18-bioc/R/site-library/crisprBwa/example/chr12.fa
[main] Real time: 0.063 sec; CPU: 0.058 sec
[runCrisprBwa] Using BSgenome.Hsapiens.UCSC.hg38 
[runCrisprBwa] Searching for SpCas9 protospacers 
[bwa_aln_core] calculate SA coordinate... 0.00 sec
[bwa_aln_core] write to the disk... 0.00 sec
[bwa_aln_core] 5 sequences have been processed.
[main] Version: 0.7.17-r1198-dirty
[main] CMD: /home/biocbuild/bbs-3.18-bioc/R/site-library/Rbwa/bwa aln -N -n 0 -l 60 -o 0 /tmp/RtmpXklf9S/chr12 /tmp/RtmpXklf9S/file3fd9ad6a2edc9a
[main] Real time: 0.001 sec; CPU: 0.002 sec
[bwa_aln_core] convert to sequence coordinate... 0.00 sec
[bwa_aln_core] refine gapped alignments... 0.00 sec
[bwa_aln_core] print alignments... 0.00 sec
[bwa_aln_core] 5 sequences have been processed.
[main] Version: 0.7.17-r1198-dirty
[main] CMD: /home/biocbuild/bbs-3.18-bioc/R/site-library/Rbwa/bwa samse -n 1000000000 /tmp/RtmpXklf9S/chr12 /tmp/RtmpXklf9S/file3fd9ad6a2edc9a.sai /tmp/RtmpXklf9S/file3fd9ad6a2edc9a
[main] Real time: 0.001 sec; CPU: 0.001 sec
[runCrisprBwa] Using BSgenome.Hsapiens.UCSC.hg38 
[runCrisprBwa] Searching for SpCas9 protospacers 
[bwa_aln_core] calculate SA coordinate... 0.00 sec
[bwa_aln_core] write to the disk... 0.00 sec
[bwa_aln_core] 5 sequences have been processed.
[main] Version: 0.7.17-r1198-dirty
[main] CMD: /home/biocbuild/bbs-3.18-bioc/R/site-library/Rbwa/bwa aln -N -n 1 -l 60 -o 0 /tmp/RtmpXklf9S/chr12 /tmp/RtmpXklf9S/file3fd9ad71963118
[main] Real time: 0.001 sec; CPU: 0.001 sec
[bwa_aln_core] convert to sequence coordinate... 0.00 sec
[bwa_aln_core] refine gapped alignments... 0.00 sec
[bwa_aln_core] print alignments... 0.00 sec
[bwa_aln_core] 5 sequences have been processed.
[main] Version: 0.7.17-r1198-dirty
[main] CMD: /home/biocbuild/bbs-3.18-bioc/R/site-library/Rbwa/bwa samse -n 1000000000 /tmp/RtmpXklf9S/chr12 /tmp/RtmpXklf9S/file3fd9ad71963118.sai /tmp/RtmpXklf9S/file3fd9ad71963118
[main] Real time: 0.001 sec; CPU: 0.001 sec
[runCrisprBwa] Using BSgenome.Hsapiens.UCSC.hg38 
[runCrisprBwa] Searching for SpCas9 protospacers 
[bwa_aln_core] calculate SA coordinate... 0.00 sec
[bwa_aln_core] write to the disk... 0.00 sec
[bwa_aln_core] 5 sequences have been processed.
[main] Version: 0.7.17-r1198-dirty
[main] CMD: /home/biocbuild/bbs-3.18-bioc/R/site-library/Rbwa/bwa aln -N -n 2 -l 60 -o 0 /tmp/RtmpXklf9S/chr12 /tmp/RtmpXklf9S/file3fd9ad4ca0b774
[main] Real time: 0.001 sec; CPU: 0.001 sec
[bwa_aln_core] convert to sequence coordinate... 0.00 sec
[bwa_aln_core] refine gapped alignments... 0.00 sec
[bwa_aln_core] print alignments... 0.00 sec
[bwa_aln_core] 5 sequences have been processed.
[main] Version: 0.7.17-r1198-dirty
[main] CMD: /home/biocbuild/bbs-3.18-bioc/R/site-library/Rbwa/bwa samse -n 1000000000 /tmp/RtmpXklf9S/chr12 /tmp/RtmpXklf9S/file3fd9ad4ca0b774.sai /tmp/RtmpXklf9S/file3fd9ad4ca0b774
[main] Real time: 0.001 sec; CPU: 0.001 sec
[runCrisprBwa] Using BSgenome.Hsapiens.UCSC.hg38 
[runCrisprBwa] Searching for SpCas9 protospacers 
[bwa_aln_core] calculate SA coordinate... 0.00 sec
[bwa_aln_core] write to the disk... 0.00 sec
[bwa_aln_core] 5 sequences have been processed.
[main] Version: 0.7.17-r1198-dirty
[main] CMD: /home/biocbuild/bbs-3.18-bioc/R/site-library/Rbwa/bwa aln -N -n 3 -l 60 -o 0 /tmp/RtmpXklf9S/chr12 /tmp/RtmpXklf9S/file3fd9ad4953bed5
[main] Real time: 0.002 sec; CPU: 0.002 sec
[bwa_aln_core] convert to sequence coordinate... 0.00 sec
[bwa_aln_core] refine gapped alignments... 0.00 sec
[bwa_aln_core] print alignments... 0.00 sec
[bwa_aln_core] 5 sequences have been processed.
[main] Version: 0.7.17-r1198-dirty
[main] CMD: /home/biocbuild/bbs-3.18-bioc/R/site-library/Rbwa/bwa samse -n 1000000000 /tmp/RtmpXklf9S/chr12 /tmp/RtmpXklf9S/file3fd9ad4953bed5.sai /tmp/RtmpXklf9S/file3fd9ad4953bed5
[main] Real time: 0.001 sec; CPU: 0.001 sec
[runCrisprBwa] Using BSgenome.Hsapiens.UCSC.hg38 
[runCrisprBwa] Searching for SpCas9 protospacers 
[bwa_aln_core] calculate SA coordinate... 0.00 sec
[bwa_aln_core] write to the disk... 0.00 sec
[bwa_aln_core] 5 sequences have been processed.
[main] Version: 0.7.17-r1198-dirty
[main] CMD: /home/biocbuild/bbs-3.18-bioc/R/site-library/Rbwa/bwa aln -N -n 0 -l 60 -o 0 /tmp/RtmpXklf9S/chr12 /tmp/RtmpXklf9S/file3fd9ad1217c528
[main] Real time: 0.002 sec; CPU: 0.001 sec
[bwa_aln_core] convert to sequence coordinate... 0.00 sec
[bwa_aln_core] refine gapped alignments... 0.00 sec
[bwa_aln_core] print alignments... 0.00 sec
[bwa_aln_core] 5 sequences have been processed.
[main] Version: 0.7.17-r1198-dirty
[main] CMD: /home/biocbuild/bbs-3.18-bioc/R/site-library/Rbwa/bwa samse -n 1000000000 /tmp/RtmpXklf9S/chr12 /tmp/RtmpXklf9S/file3fd9ad1217c528.sai /tmp/RtmpXklf9S/file3fd9ad1217c528
[main] Real time: 0.001 sec; CPU: 0.001 sec
[runCrisprBwa] Using BSgenome.Hsapiens.UCSC.hg38 
[runCrisprBwa] Searching for SpCas9 protospacers 
[bwa_aln_core] calculate SA coordinate... 0.00 sec
[bwa_aln_core] write to the disk... 0.00 sec
[bwa_aln_core] 5 sequences have been processed.
[main] Version: 0.7.17-r1198-dirty
[main] CMD: /home/biocbuild/bbs-3.18-bioc/R/site-library/Rbwa/bwa aln -N -n 1 -l 60 -o 0 /tmp/RtmpXklf9S/chr12 /tmp/RtmpXklf9S/file3fd9ad2bd47d34
[main] Real time: 0.001 sec; CPU: 0.001 sec
[bwa_aln_core] convert to sequence coordinate... 0.00 sec
[bwa_aln_core] refine gapped alignments... 0.00 sec
[bwa_aln_core] print alignments... 0.00 sec
[bwa_aln_core] 5 sequences have been processed.
[main] Version: 0.7.17-r1198-dirty
[main] CMD: /home/biocbuild/bbs-3.18-bioc/R/site-library/Rbwa/bwa samse -n 1000000000 /tmp/RtmpXklf9S/chr12 /tmp/RtmpXklf9S/file3fd9ad2bd47d34.sai /tmp/RtmpXklf9S/file3fd9ad2bd47d34
[main] Real time: 0.001 sec; CPU: 0.001 sec
[runCrisprBwa] Using BSgenome.Hsapiens.UCSC.hg38 
[runCrisprBwa] Searching for SpCas9 protospacers 
[bwa_aln_core] calculate SA coordinate... 0.00 sec
[bwa_aln_core] write to the disk... 0.00 sec
[bwa_aln_core] 5 sequences have been processed.
[main] Version: 0.7.17-r1198-dirty
[main] CMD: /home/biocbuild/bbs-3.18-bioc/R/site-library/Rbwa/bwa aln -N -n 2 -l 60 -o 0 /tmp/RtmpXklf9S/chr12 /tmp/RtmpXklf9S/file3fd9ad53abb4b9
[main] Real time: 0.002 sec; CPU: 0.001 sec
[bwa_aln_core] convert to sequence coordinate... 0.00 sec
[bwa_aln_core] refine gapped alignments... 0.00 sec
[bwa_aln_core] print alignments... 0.00 sec
[bwa_aln_core] 5 sequences have been processed.
[main] Version: 0.7.17-r1198-dirty
[main] CMD: /home/biocbuild/bbs-3.18-bioc/R/site-library/Rbwa/bwa samse -n 1000000000 /tmp/RtmpXklf9S/chr12 /tmp/RtmpXklf9S/file3fd9ad53abb4b9.sai /tmp/RtmpXklf9S/file3fd9ad53abb4b9
[main] Real time: 0.001 sec; CPU: 0.001 sec
[runCrisprBwa] Using BSgenome.Hsapiens.UCSC.hg38 
[runCrisprBwa] Searching for SpCas9 protospacers 
[bwa_aln_core] calculate SA coordinate... 0.00 sec
[bwa_aln_core] write to the disk... 0.00 sec
[bwa_aln_core] 5 sequences have been processed.
[main] Version: 0.7.17-r1198-dirty
[main] CMD: /home/biocbuild/bbs-3.18-bioc/R/site-library/Rbwa/bwa aln -N -n 3 -l 60 -o 0 /tmp/RtmpXklf9S/chr12 /tmp/RtmpXklf9S/file3fd9ad1d68af2f
[main] Real time: 0.002 sec; CPU: 0.002 sec
[bwa_aln_core] convert to sequence coordinate... 0.00 sec
[bwa_aln_core] refine gapped alignments... 0.00 sec
[bwa_aln_core] print alignments... 0.00 sec
[bwa_aln_core] 5 sequences have been processed.
[main] Version: 0.7.17-r1198-dirty
[main] CMD: /home/biocbuild/bbs-3.18-bioc/R/site-library/Rbwa/bwa samse -n 1000000000 /tmp/RtmpXklf9S/chr12 /tmp/RtmpXklf9S/file3fd9ad1d68af2f.sai /tmp/RtmpXklf9S/file3fd9ad1d68af2f
[main] Real time: 0.001 sec; CPU: 0.001 sec
[runCrisprBwa] Using BSgenome.Hsapiens.UCSC.hg38 
[runCrisprBwa] Searching for SpCas9 protospacers 
[runCrisprBwa] Using BSgenome.Hsapiens.UCSC.hg38 
[runCrisprBwa] Searching for SpCas9 protospacers 
[bwa_aln_core] calculate SA coordinate... 0.00 sec
[bwa_aln_core] write to the disk... 0.00 sec
[bwa_aln_core] 5 sequences have been processed.
[main] Version: 0.7.17-r1198-dirty
[main] CMD: /home/biocbuild/bbs-3.18-bioc/R/site-library/Rbwa/bwa aln -N -n 3 -l 51 -o 0 /tmp/RtmpXklf9S/chr12 /tmp/RtmpXklf9S/file3fd9ad702de504
[main] Real time: 0.003 sec; CPU: 0.003 sec
[bwa_aln_core] convert to sequence coordinate... 0.00 sec
[bwa_aln_core] refine gapped alignments... 0.00 sec
[bwa_aln_core] print alignments... 0.00 sec
[bwa_aln_core] 5 sequences have been processed.
[main] Version: 0.7.17-r1198-dirty
[main] CMD: /home/biocbuild/bbs-3.18-bioc/R/site-library/Rbwa/bwa samse -n 1000000000 /tmp/RtmpXklf9S/chr12 /tmp/RtmpXklf9S/file3fd9ad702de504.sai /tmp/RtmpXklf9S/file3fd9ad702de504
[main] Real time: 0.001 sec; CPU: 0.001 sec
[runCrisprBwa] Using BSgenome.Hsapiens.UCSC.hg38 
[runCrisprBwa] Searching for AsCas12a protospacers 
[bwa_aln_core] calculate SA coordinate... 0.00 sec
[bwa_aln_core] write to the disk... 0.00 sec
[bwa_aln_core] 4 sequences have been processed.
[main] Version: 0.7.17-r1198-dirty
[main] CMD: /home/biocbuild/bbs-3.18-bioc/R/site-library/Rbwa/bwa aln -N -n 0 -l 69 -o 0 /tmp/RtmpXklf9S/chr12 /tmp/RtmpXklf9S/file3fd9ad35509eef
[main] Real time: 0.001 sec; CPU: 0.001 sec
[bwa_aln_core] convert to sequence coordinate... 0.00 sec
[bwa_aln_core] refine gapped alignments... 0.00 sec
[bwa_aln_core] print alignments... 0.00 sec
[bwa_aln_core] 4 sequences have been processed.
[main] Version: 0.7.17-r1198-dirty
[main] CMD: /home/biocbuild/bbs-3.18-bioc/R/site-library/Rbwa/bwa samse -n 1000000000 /tmp/RtmpXklf9S/chr12 /tmp/RtmpXklf9S/file3fd9ad35509eef.sai /tmp/RtmpXklf9S/file3fd9ad35509eef
[main] Real time: 0.001 sec; CPU: 0.001 sec
[runCrisprBwa] Using BSgenome.Hsapiens.UCSC.hg38 
[runCrisprBwa] Searching for AsCas12a protospacers 
[bwa_aln_core] calculate SA coordinate... 0.00 sec
[bwa_aln_core] write to the disk... 0.00 sec
[bwa_aln_core] 4 sequences have been processed.
[main] Version: 0.7.17-r1198-dirty
[main] CMD: /home/biocbuild/bbs-3.18-bioc/R/site-library/Rbwa/bwa aln -N -n 1 -l 69 -o 0 /tmp/RtmpXklf9S/chr12 /tmp/RtmpXklf9S/file3fd9ad534efc07
[main] Real time: 0.002 sec; CPU: 0.001 sec
[bwa_aln_core] convert to sequence coordinate... 0.00 sec
[bwa_aln_core] refine gapped alignments... 0.00 sec
[bwa_aln_core] print alignments... 0.00 sec
[bwa_aln_core] 4 sequences have been processed.
[main] Version: 0.7.17-r1198-dirty
[main] CMD: /home/biocbuild/bbs-3.18-bioc/R/site-library/Rbwa/bwa samse -n 1000000000 /tmp/RtmpXklf9S/chr12 /tmp/RtmpXklf9S/file3fd9ad534efc07.sai /tmp/RtmpXklf9S/file3fd9ad534efc07
[main] Real time: 0.001 sec; CPU: 0.001 sec
[runCrisprBwa] Using BSgenome.Hsapiens.UCSC.hg38 
[runCrisprBwa] Searching for AsCas12a protospacers 
[bwa_aln_core] calculate SA coordinate... 0.00 sec
[bwa_aln_core] write to the disk... 0.00 sec
[bwa_aln_core] 4 sequences have been processed.
[main] Version: 0.7.17-r1198-dirty
[main] CMD: /home/biocbuild/bbs-3.18-bioc/R/site-library/Rbwa/bwa aln -N -n 2 -l 69 -o 0 /tmp/RtmpXklf9S/chr12 /tmp/RtmpXklf9S/file3fd9ad52606b17
[main] Real time: 0.002 sec; CPU: 0.002 sec
[bwa_aln_core] convert to sequence coordinate... 0.00 sec
[bwa_aln_core] refine gapped alignments... 0.00 sec
[bwa_aln_core] print alignments... 0.00 sec
[bwa_aln_core] 4 sequences have been processed.
[main] Version: 0.7.17-r1198-dirty
[main] CMD: /home/biocbuild/bbs-3.18-bioc/R/site-library/Rbwa/bwa samse -n 1000000000 /tmp/RtmpXklf9S/chr12 /tmp/RtmpXklf9S/file3fd9ad52606b17.sai /tmp/RtmpXklf9S/file3fd9ad52606b17
[main] Real time: 0.001 sec; CPU: 0.001 sec
[runCrisprBwa] Using BSgenome.Hsapiens.UCSC.hg38 
[runCrisprBwa] Searching for AsCas12a protospacers 
[bwa_aln_core] calculate SA coordinate... 0.00 sec
[bwa_aln_core] write to the disk... 0.00 sec
[bwa_aln_core] 4 sequences have been processed.
[main] Version: 0.7.17-r1198-dirty
[main] CMD: /home/biocbuild/bbs-3.18-bioc/R/site-library/Rbwa/bwa aln -N -n 3 -l 69 -o 0 /tmp/RtmpXklf9S/chr12 /tmp/RtmpXklf9S/file3fd9ad12284a0c
[main] Real time: 0.002 sec; CPU: 0.002 sec
[bwa_aln_core] convert to sequence coordinate... 0.00 sec
[bwa_aln_core] refine gapped alignments... 0.00 sec
[bwa_aln_core] print alignments... 0.00 sec
[bwa_aln_core] 4 sequences have been processed.
[main] Version: 0.7.17-r1198-dirty
[main] CMD: /home/biocbuild/bbs-3.18-bioc/R/site-library/Rbwa/bwa samse -n 1000000000 /tmp/RtmpXklf9S/chr12 /tmp/RtmpXklf9S/file3fd9ad12284a0c.sai /tmp/RtmpXklf9S/file3fd9ad12284a0c
[main] Real time: 0.001 sec; CPU: 0.001 sec
[ FAIL 0 | WARN 0 | SKIP 0 | PASS 19 ]
> 
> proc.time()
   user  system elapsed 
 16.807   1.787  18.537 

Example timings

crisprBwa.Rcheck/crisprBwa-Ex.timings

nameusersystemelapsed
runBwa0.2650.0510.340
runCrisprBwa0.7660.0770.843