Index of /checkResults/release/bioc-LATEST/crisprBowtie/raw-results/nebbiolo1

[ICO]NameLast modifiedSizeDescription

[DIR]Parent Directory  -  
[TXT]buildsrc-out.txt22-Jun-2024 06:38 825  
[   ]buildsrc-summary.dcf22-Jun-2024 06:38 430  
[TXT]checksrc-out.txt22-Jun-2024 06:38 3.2K 
[   ]checksrc-summary.dcf22-Jun-2024 06:38 432  
[TXT]install-out.txt22-Jun-2024 06:38 967  
[   ]install-summary.dcf22-Jun-2024 06:38 268