Index of /checkResults/release/bioc-LATEST/crisprBowtie/raw-results/nebbiolo1

[ICO]NameLast modifiedSizeDescription

[DIR]Parent Directory  -  
[   ]install-summary.dcf20-Jul-2024 06:37 268  
[TXT]install-out.txt20-Jul-2024 06:37 967  
[   ]checksrc-summary.dcf20-Jul-2024 06:37 432  
[TXT]checksrc-out.txt20-Jul-2024 06:37 3.2K 
[   ]buildsrc-summary.dcf20-Jul-2024 06:37 430  
[TXT]buildsrc-out.txt20-Jul-2024 06:37 825