Back to Multiple platform build/check report for BioC 3.18:   simplified   long
AB[C]DEFGHIJKLMNOPQRSTUVWXYZ

This page was generated on 2024-03-02 11:35:38 -0500 (Sat, 02 Mar 2024).

HostnameOSArch (*)R versionInstalled pkgs
nebbiolo2Linux (Ubuntu 22.04.3 LTS)x86_644.3.2 Patched (2023-11-13 r85521) -- "Eye Holes" 4692
palomino4Windows Server 2022 Datacenterx644.3.2 (2023-10-31 ucrt) -- "Eye Holes" 4445
lconwaymacOS 12.7.1 Montereyx86_644.3.2 Patched (2023-11-01 r85457) -- "Eye Holes" 4466
Click on any hostname to see more info about the system (e.g. compilers)      (*) as reported by 'uname -p', except on Windows and Mac OS X

Package 414/2266HostnameOS / ArchINSTALLBUILDCHECKBUILD BIN
compEpiTools 1.36.0  (landing page)
Mattia Furlan
Snapshot Date: 2024-03-01 14:05:09 -0500 (Fri, 01 Mar 2024)
git_url: https://git.bioconductor.org/packages/compEpiTools
git_branch: RELEASE_3_18
git_last_commit: a66a836
git_last_commit_date: 2023-10-24 10:00:44 -0500 (Tue, 24 Oct 2023)
nebbiolo2Linux (Ubuntu 22.04.3 LTS) / x86_64  OK    OK    WARNINGS  UNNEEDED, same version is already published
palomino4Windows Server 2022 Datacenter / x64  OK    OK    WARNINGS    OK  UNNEEDED, same version is already published
lconwaymacOS 12.7.1 Monterey / x86_64  OK    OK    WARNINGS    OK  UNNEEDED, same version is already published
kjohnson1macOS 13.6.1 Ventura / arm64see weekly results here

BUILD results for compEpiTools on nebbiolo2


To the developers/maintainers of the compEpiTools package:
- Allow up to 24 hours (and sometimes 48 hours) for your latest push to git@git.bioconductor.org:packages/compEpiTools.git to reflect on this report. See Troubleshooting Build Report for more information.
- Use the following Renviron settings to reproduce errors and warnings.
- If 'R CMD check' started to fail recently on the Linux builder(s) over a missing dependency, add the missing dependency to 'Suggests:' in your DESCRIPTION file. See Renviron.bioc for more information.

raw results


Summary

Package: compEpiTools
Version: 1.36.0
Command: /home/biocbuild/bbs-3.18-bioc/R/bin/R CMD build --keep-empty-dirs --no-resave-data compEpiTools
StartedAt: 2024-03-01 16:29:49 -0500 (Fri, 01 Mar 2024)
EndedAt: 2024-03-01 16:31:15 -0500 (Fri, 01 Mar 2024)
EllapsedTime: 86.0 seconds
RetCode: 0
Status:   OK  
PackageFile: compEpiTools_1.36.0.tar.gz
PackageFileSize: 2.162 MiB

Command output

##############################################################################
##############################################################################
###
### Running command:
###
###   /home/biocbuild/bbs-3.18-bioc/R/bin/R CMD build --keep-empty-dirs --no-resave-data compEpiTools
###
##############################################################################
##############################################################################


* checking for file ‘compEpiTools/DESCRIPTION’ ... OK
* preparing ‘compEpiTools’:
* checking DESCRIPTION meta-information ... OK
* installing the package to build vignettes
* creating vignettes ... OK
* checking for LF line-endings in source and make files and shell scripts
* checking for empty or unneeded directories
  NB: this package now depends on R (>= 3.5.0)
  WARNING: Added dependency on R >= 3.5.0 because serialized objects in
  serialize/load version 3 cannot be read in older versions of R.
  File(s) containing such objects:
    ‘compEpiTools/inst/extdata/CGIgr_mm9.Rdata’
    ‘compEpiTools/inst/extdata/H3K4me1GR.Rda’
    ‘compEpiTools/inst/extdata/H3K4me3GR.Rda’
    ‘compEpiTools/inst/extdata/Pol2GR.Rda’
* building ‘compEpiTools_1.36.0.tar.gz’