Back to Multiple platform build/check report for BioC 3.18:   simplified   long
AB[C]DEFGHIJKLMNOPQRSTUVWXYZ

This page was generated on 2024-02-28 11:36:39 -0500 (Wed, 28 Feb 2024).

HostnameOSArch (*)R versionInstalled pkgs
nebbiolo2Linux (Ubuntu 22.04.3 LTS)x86_644.3.2 Patched (2023-11-13 r85521) -- "Eye Holes" 4692
palomino4Windows Server 2022 Datacenterx644.3.2 (2023-10-31 ucrt) -- "Eye Holes" 4445
lconwaymacOS 12.7.1 Montereyx86_644.3.2 Patched (2023-11-01 r85457) -- "Eye Holes" 4466
Click on any hostname to see more info about the system (e.g. compilers)      (*) as reported by 'uname -p', except on Windows and Mac OS X

Package 356/2266HostnameOS / ArchINSTALLBUILDCHECKBUILD BIN
cleanUpdTSeq 1.40.0  (landing page)
Jianhong Ou ; Lihua Julie Zhu
Snapshot Date: 2024-02-27 14:05:07 -0500 (Tue, 27 Feb 2024)
git_url: https://git.bioconductor.org/packages/cleanUpdTSeq
git_branch: RELEASE_3_18
git_last_commit: a14f6c9
git_last_commit_date: 2023-10-24 09:54:49 -0500 (Tue, 24 Oct 2023)
nebbiolo2Linux (Ubuntu 22.04.3 LTS) / x86_64  OK    OK    OK  UNNEEDED, same version is already published
palomino4Windows Server 2022 Datacenter / x64  OK    OK    OK    OK  UNNEEDED, same version is already published
lconwaymacOS 12.7.1 Monterey / x86_64  OK    OK    OK    OK  UNNEEDED, same version is already published
kjohnson1macOS 13.6.1 Ventura / arm64see weekly results here

CHECK results for cleanUpdTSeq on palomino4


To the developers/maintainers of the cleanUpdTSeq package:
- Allow up to 24 hours (and sometimes 48 hours) for your latest push to git@git.bioconductor.org:packages/cleanUpdTSeq.git to reflect on this report. See Troubleshooting Build Report for more information.
- Use the following Renviron settings to reproduce errors and warnings.
- If 'R CMD check' started to fail recently on the Linux builder(s) over a missing dependency, add the missing dependency to 'Suggests:' in your DESCRIPTION file. See Renviron.bioc for more information.

raw results


Summary

Package: cleanUpdTSeq
Version: 1.40.0
Command: F:\biocbuild\bbs-3.18-bioc\R\bin\R.exe CMD check --no-multiarch --install=check:cleanUpdTSeq.install-out.txt --library=F:\biocbuild\bbs-3.18-bioc\R\library --no-vignettes --timings cleanUpdTSeq_1.40.0.tar.gz
StartedAt: 2024-02-28 00:10:53 -0500 (Wed, 28 Feb 2024)
EndedAt: 2024-02-28 00:15:18 -0500 (Wed, 28 Feb 2024)
EllapsedTime: 265.2 seconds
RetCode: 0
Status:   OK  
CheckDir: cleanUpdTSeq.Rcheck
Warnings: 0

Command output

##############################################################################
##############################################################################
###
### Running command:
###
###   F:\biocbuild\bbs-3.18-bioc\R\bin\R.exe CMD check --no-multiarch --install=check:cleanUpdTSeq.install-out.txt --library=F:\biocbuild\bbs-3.18-bioc\R\library --no-vignettes --timings cleanUpdTSeq_1.40.0.tar.gz
###
##############################################################################
##############################################################################


* using log directory 'F:/biocbuild/bbs-3.18-bioc/meat/cleanUpdTSeq.Rcheck'
* using R version 4.3.2 (2023-10-31 ucrt)
* using platform: x86_64-w64-mingw32 (64-bit)
* R was compiled by
    gcc.exe (GCC) 12.3.0
    GNU Fortran (GCC) 12.3.0
* running under: Windows Server 2022 x64 (build 20348)
* using session charset: UTF-8
* using option '--no-vignettes'
* checking for file 'cleanUpdTSeq/DESCRIPTION' ... OK
* checking extension type ... Package
* this is package 'cleanUpdTSeq' version '1.40.0'
* package encoding: UTF-8
* checking package namespace information ... OK
* checking package dependencies ... OK
* checking if this is a source package ... OK
* checking if there is a namespace ... OK
* checking for hidden files and directories ... OK
* checking for portable file names ... OK
* checking whether package 'cleanUpdTSeq' can be installed ... OK
* checking installed package size ... NOTE
  installed size is  5.8Mb
  sub-directories of 1Mb or more:
    data      4.4Mb
    extdata   1.2Mb
* checking package directory ... OK
* checking 'build' directory ... OK
* checking DESCRIPTION meta-information ... OK
* checking top-level files ... OK
* checking for left-over files ... OK
* checking index information ... OK
* checking package subdirectories ... OK
* checking R files for non-ASCII characters ... OK
* checking R files for syntax errors ... OK
* checking whether the package can be loaded ... OK
* checking whether the package can be loaded with stated dependencies ... OK
* checking whether the package can be unloaded cleanly ... OK
* checking whether the namespace can be loaded with stated dependencies ... OK
* checking whether the namespace can be unloaded cleanly ... OK
* checking dependencies in R code ... OK
* checking S3 generic/method consistency ... OK
* checking replacement functions ... OK
* checking foreign function calls ... OK
* checking R code for possible problems ... OK
* checking Rd files ... OK
* checking Rd metadata ... OK
* checking Rd cross-references ... OK
* checking for missing documentation entries ... OK
* checking for code/documentation mismatches ... OK
* checking Rd \usage sections ... OK
* checking Rd contents ... OK
* checking for unstated dependencies in examples ... OK
* checking contents of 'data' directory ... OK
* checking data for non-ASCII characters ... OK
* checking LazyData ... OK
* checking data for ASCII and uncompressed saves ... OK
* checking files in 'vignettes' ... OK
* checking examples ... OK
Examples with CPU (user + system) or elapsed time > 5s
               user system elapsed
predictTestSet 6.17   0.57    6.75
* checking for unstated dependencies in 'tests' ... OK
* checking tests ...
  Running 'runTests.R'
 OK
* checking for unstated dependencies in vignettes ... OK
* checking package vignettes in 'inst/doc' ... OK
* checking running R code from vignettes ... SKIPPED
* checking re-building of vignette outputs ... SKIPPED
* checking PDF version of manual ... OK
* DONE

Status: 1 NOTE
See
  'F:/biocbuild/bbs-3.18-bioc/meat/cleanUpdTSeq.Rcheck/00check.log'
for details.



Installation output

cleanUpdTSeq.Rcheck/00install.out

##############################################################################
##############################################################################
###
### Running command:
###
###   F:\biocbuild\bbs-3.18-bioc\R\bin\R.exe CMD INSTALL cleanUpdTSeq
###
##############################################################################
##############################################################################


* installing to library 'F:/biocbuild/bbs-3.18-bioc/R/library'
* installing *source* package 'cleanUpdTSeq' ...
** using staged installation
** R
** data
*** moving datasets to lazyload DB
** inst
** byte-compile and prepare package for lazy loading
** help
*** installing help indices
** building package indices
** installing vignettes
** testing if installed package can be loaded from temporary location
** testing if installed package can be loaded from final location
** testing if installed package keeps a record of temporary installation path
* DONE (cleanUpdTSeq)

Tests output

cleanUpdTSeq.Rcheck/tests/runTests.Rout


R version 4.3.2 (2023-10-31 ucrt) -- "Eye Holes"
Copyright (C) 2023 The R Foundation for Statistical Computing
Platform: x86_64-w64-mingw32/x64 (64-bit)

R is free software and comes with ABSOLUTELY NO WARRANTY.
You are welcome to redistribute it under certain conditions.
Type 'license()' or 'licence()' for distribution details.

R is a collaborative project with many contributors.
Type 'contributors()' for more information and
'citation()' on how to cite R or R packages in publications.

Type 'demo()' for some demos, 'help()' for on-line help, or
'help.start()' for an HTML browser interface to help.
Type 'q()' to quit R.

> require("cleanUpdTSeq") || stop("unable to load Package:cleanUpdTSeq")
Loading required package: cleanUpdTSeq
Loading required package: BSgenome.Drerio.UCSC.danRer7
Loading required package: BSgenome
Loading required package: BiocGenerics

Attaching package: 'BiocGenerics'

The following objects are masked from 'package:stats':

    IQR, mad, sd, var, xtabs

The following objects are masked from 'package:base':

    Filter, Find, Map, Position, Reduce, anyDuplicated, aperm, append,
    as.data.frame, basename, cbind, colnames, dirname, do.call,
    duplicated, eval, evalq, get, grep, grepl, intersect, is.unsorted,
    lapply, mapply, match, mget, order, paste, pmax, pmax.int, pmin,
    pmin.int, rank, rbind, rownames, sapply, setdiff, sort, table,
    tapply, union, unique, unsplit, which.max, which.min

Loading required package: S4Vectors
Loading required package: stats4

Attaching package: 'S4Vectors'

The following object is masked from 'package:utils':

    findMatches

The following objects are masked from 'package:base':

    I, expand.grid, unname

Loading required package: IRanges

Attaching package: 'IRanges'

The following object is masked from 'package:grDevices':

    windows

Loading required package: GenomeInfoDb
Loading required package: GenomicRanges
Loading required package: Biostrings
Loading required package: XVector

Attaching package: 'Biostrings'

The following object is masked from 'package:base':

    strsplit

Loading required package: BiocIO
Loading required package: rtracklayer

Attaching package: 'rtracklayer'

The following object is masked from 'package:BiocIO':

    FileForFormat

[1] TRUE
> BiocGenerics:::testPackage("cleanUpdTSeq")


RUNIT TEST PROTOCOL -- Wed Feb 28 00:15:09 2024 
*********************************************** 
Number of test functions: 1 
Number of errors: 0 
Number of failures: 0 

 
1 Test Suite : 
cleanUpdTSeq RUnit Tests - 1 test function, 0 errors, 0 failures
Number of test functions: 1 
Number of errors: 0 
Number of failures: 0 
> 
> proc.time()
   user  system elapsed 
  12.57    0.75   13.35 

Example timings

cleanUpdTSeq.Rcheck/cleanUpdTSeq-Ex.timings

nameusersystemelapsed
BED6WithSeq2GRangesSeq0.120.000.12
PASclassifier-class0.000.010.01
buildClassifier000
buildFeatureVector1.320.061.37
classifier0.030.020.05
data.NaiveBayes4.060.344.41
getContextSequences0.340.000.34
predictTestSet6.170.576.75