Name | Last modified | Size | Description | |
---|---|---|---|---|
Parent Directory | - | |||
checksrc-out.txt | 22-May-2024 00:37 | 6.8K | ||
checksrc-summary.dcf | 22-May-2024 00:37 | 450 | ||
buildbin-summary.dcf | 22-May-2024 00:37 | 530 | ||
buildbin-out.txt | 22-May-2024 00:37 | 3.6K | ||
install-out.txt | 23-May-2024 00:36 | 697 | ||
install-summary.dcf | 23-May-2024 00:36 | 272 | ||
buildsrc-out.txt | 23-May-2024 00:36 | 908 | ||
buildsrc-summary.dcf | 23-May-2024 00:36 | 342 | ||