Back to Multiple platform build/check report for BioC 3.18:   simplified   long
AB[C]DEFGHIJKLMNOPQRSTUVWXYZ

This page was generated on 2024-03-29 11:35:50 -0400 (Fri, 29 Mar 2024).

HostnameOSArch (*)R versionInstalled pkgs
nebbiolo2Linux (Ubuntu 22.04.3 LTS)x86_644.3.3 (2024-02-29) -- "Angel Food Cake" 4669
palomino4Windows Server 2022 Datacenterx644.3.3 (2024-02-29 ucrt) -- "Angel Food Cake" 4404
merida1macOS 12.7.1 Montereyx86_644.3.3 (2024-02-29) -- "Angel Food Cake" 4427
Click on any hostname to see more info about the system (e.g. compilers)      (*) as reported by 'uname -p', except on Windows and Mac OS X

Package 327/2266HostnameOS / ArchINSTALLBUILDCHECKBUILD BIN
chihaya 1.2.0  (landing page)
Aaron Lun
Snapshot Date: 2024-03-27 14:05:05 -0400 (Wed, 27 Mar 2024)
git_url: https://git.bioconductor.org/packages/chihaya
git_branch: RELEASE_3_18
git_last_commit: 180da64
git_last_commit_date: 2023-10-24 11:47:21 -0400 (Tue, 24 Oct 2023)
nebbiolo2Linux (Ubuntu 22.04.3 LTS) / x86_64  OK    OK    WARNINGS  UNNEEDED, same version is already published
palomino4Windows Server 2022 Datacenter / x64  OK    OK    OK    OK  UNNEEDED, same version is already published
merida1macOS 12.7.1 Monterey / x86_64  OK    OK    WARNINGS    OK  UNNEEDED, same version is already published
kjohnson1macOS 13.6.1 Ventura / arm64see weekly results here

INSTALL results for chihaya on nebbiolo2


To the developers/maintainers of the chihaya package:
- Allow up to 24 hours (and sometimes 48 hours) for your latest push to git@git.bioconductor.org:packages/chihaya.git to reflect on this report. See Troubleshooting Build Report for more information.
- Use the following Renviron settings to reproduce errors and warnings.
- If 'R CMD check' started to fail recently on the Linux builder(s) over a missing dependency, add the missing dependency to 'Suggests:' in your DESCRIPTION file. See Renviron.bioc for more information.

raw results


Summary

Package: chihaya
Version: 1.2.0
Command: /home/biocbuild/bbs-3.18-bioc/R/bin/R CMD INSTALL chihaya
StartedAt: 2024-03-27 15:14:06 -0400 (Wed, 27 Mar 2024)
EndedAt: 2024-03-27 15:14:46 -0400 (Wed, 27 Mar 2024)
EllapsedTime: 39.9 seconds
RetCode: 0
Status:   OK  

Command output

##############################################################################
##############################################################################
###
### Running command:
###
###   /home/biocbuild/bbs-3.18-bioc/R/bin/R CMD INSTALL chihaya
###
##############################################################################
##############################################################################


* installing to library ‘/home/biocbuild/bbs-3.18-bioc/R/site-library’
* installing *source* package ‘chihaya’ ...
** using staged installation
** libs
using C++ compiler: ‘g++ (Ubuntu 11.4.0-1ubuntu1~22.04) 11.4.0’
using C++17
g++ -std=gnu++17 -I"/home/biocbuild/bbs-3.18-bioc/R/include" -DNDEBUG -I../inst/include -D USE_HDF5=1 -D USE_ZLIB=1 -I'/home/biocbuild/bbs-3.18-bioc/R/site-library/Rcpp/include' -I'/home/biocbuild/bbs-3.18-bioc/R/site-library/Rhdf5lib/include' -I/usr/local/include    -fpic  -g -O2  -Wall -c RcppExports.cpp -o RcppExports.o
g++ -std=gnu++17 -I"/home/biocbuild/bbs-3.18-bioc/R/include" -DNDEBUG -I../inst/include -D USE_HDF5=1 -D USE_ZLIB=1 -I'/home/biocbuild/bbs-3.18-bioc/R/site-library/Rcpp/include' -I'/home/biocbuild/bbs-3.18-bioc/R/site-library/Rhdf5lib/include' -I/usr/local/include    -fpic  -g -O2  -Wall -c get_best_type.cpp -o get_best_type.o
g++ -std=gnu++17 -I"/home/biocbuild/bbs-3.18-bioc/R/include" -DNDEBUG -I../inst/include -D USE_HDF5=1 -D USE_ZLIB=1 -I'/home/biocbuild/bbs-3.18-bioc/R/site-library/Rcpp/include' -I'/home/biocbuild/bbs-3.18-bioc/R/site-library/Rhdf5lib/include' -I/usr/local/include    -fpic  -g -O2  -Wall -c h5exists.cpp -o h5exists.o
g++ -std=gnu++17 -I"/home/biocbuild/bbs-3.18-bioc/R/include" -DNDEBUG -I../inst/include -D USE_HDF5=1 -D USE_ZLIB=1 -I'/home/biocbuild/bbs-3.18-bioc/R/site-library/Rcpp/include' -I'/home/biocbuild/bbs-3.18-bioc/R/site-library/Rhdf5lib/include' -I/usr/local/include    -fpic  -g -O2  -Wall -c validate.cpp -o validate.o
g++ -std=gnu++17 -I"/home/biocbuild/bbs-3.18-bioc/R/include" -DNDEBUG -I../inst/include -D USE_HDF5=1 -D USE_ZLIB=1 -I'/home/biocbuild/bbs-3.18-bioc/R/site-library/Rcpp/include' -I'/home/biocbuild/bbs-3.18-bioc/R/site-library/Rhdf5lib/include' -I/usr/local/include    -fpic  -g -O2  -Wall -c write_scalar.cpp -o write_scalar.o
g++ -std=gnu++17 -shared -L/home/biocbuild/bbs-3.18-bioc/R/lib -L/usr/local/lib -o chihaya.so RcppExports.o get_best_type.o h5exists.o validate.o write_scalar.o /home/biocbuild/bbs-3.18-bioc/R/site-library/Rhdf5lib/lib/libhdf5_cpp.a /home/biocbuild/bbs-3.18-bioc/R/site-library/Rhdf5lib/lib/libhdf5.a -L/home/biocbuild/bbs-3.18-bioc/R/site-library/Rhdf5lib/lib -lcrypto -lcurl -lsz -laec -lz -ldl -lm -L/home/biocbuild/bbs-3.18-bioc/R/lib -lR
installing to /home/biocbuild/bbs-3.18-bioc/R/site-library/00LOCK-chihaya/00new/chihaya/libs
** R
** inst
** byte-compile and prepare package for lazy loading
** help
*** installing help indices
** building package indices
** installing vignettes
** testing if installed package can be loaded from temporary location
** checking absolute paths in shared objects and dynamic libraries
** testing if installed package can be loaded from final location
** testing if installed package keeps a record of temporary installation path
* DONE (chihaya)