Index of /checkResults/release/bioc-LATEST/cghMCR/raw-results

[ICO]NameLast modifiedSizeDescription

[DIR]Parent Directory  -  
[DIR]palomino4/02-Mar-2024 01:36 -  
[DIR]nebbiolo2/02-Mar-2024 01:35 -  
[DIR]lconway/02-Mar-2024 01:37 -  
[DIR]kunpeng2/03-Nov-2023 00:40 -  
[   ]info.dcf02-Mar-2024 01:34 269