Index of /checkResults/release/bioc-LATEST/cghMCR/raw-results/kunpeng2

[ICO]NameLast modifiedSizeDescription

[DIR]Parent Directory  -  
[TXT]buildsrc-out.txt03-Nov-2023 00:40 859  
[   ]buildsrc-summary.dcf03-Nov-2023 00:40 407  
[TXT]checksrc-out.txt03-Nov-2023 00:40 6.7K 
[   ]checksrc-summary.dcf03-Nov-2023 00:40 419  
[TXT]install-out.txt03-Nov-2023 00:40 945  
[   ]install-summary.dcf03-Nov-2023 00:40 251