Back to Multiple platform build/check report for BioC 3.12
AB[C]DEFGHIJKLMNOPQRSTUVWXYZ

Multiple platform build/check report for BioC 3.12

Results for package cellity

This page was generated on 2021-03-03 12:08:47 -0500 (Wed, 03 Mar 2021).

Package 253/1974HostnameOS / ArchINSTALLBUILDCHECKBUILD BIN
cellity 1.18.0
Tomislav Ilicic
Snapshot Date: 2021-03-02 14:50:31 -0500 (Tue, 02 Mar 2021)
URL: https://git.bioconductor.org/packages/cellity
Branch: RELEASE_3_12
Last Commit: 65b7ecd
Last Changed Date: 2020-10-27 11:11:33 -0500 (Tue, 27 Oct 2020)
malbec1Linux (Ubuntu 18.04.5 LTS) / x86_64  OK    OK    OK  UNNEEDED, same version exists in internal repository
nebbiolo1Linux (Ubuntu 20.04.2 LTS) / x86_64  OK    OK    OK  
tokay1Windows Server 2012 R2 Standard / x64  OK    OK    OK    OK  UNNEEDED, same version exists in internal repository
merida1macOS 10.14.6 Mojave / x86_64  OK    OK    OK    OK  UNNEEDED, same version exists in internal repository