Index of /checkResults/release/bioc-LATEST/casper/raw-results/lconway
Name
Last modified
Size
Description
Parent Directory
-
buildsrc-out.txt
05-Mar-2024 01:37
5.6K
buildsrc-summary.dcf
05-Mar-2024 01:37
341
install-out.txt
05-Mar-2024 01:37
8.1K
install-summary.dcf
05-Mar-2024 01:37
267