Index of /checkResults/release/bioc-LATEST/casper/raw-results/lconway
Name
Last modified
Size
Description
Parent Directory
-
buildsrc-out.txt
07-May-2024 00:39
5.6K
buildsrc-summary.dcf
07-May-2024 00:39
341
install-out.txt
07-May-2024 00:39
8.1K
install-summary.dcf
07-May-2024 00:39
267