Index of /checkResults/release/bioc-LATEST/bumphunter/raw-results/lconway

[ICO]NameLast modifiedSizeDescription

[DIR]Parent Directory  -  
[TXT]checksrc-out.txt22-May-2024 00:37 4.0K 
[TXT]buildbin-out.txt22-May-2024 00:37 1.2K 
[TXT]buildsrc-out.txt23-May-2024 00:36 914  
[TXT]install-out.txt23-May-2024 00:36 712  
[   ]buildbin-summary.dcf22-May-2024 00:37 548  
[   ]checksrc-summary.dcf22-May-2024 00:37 456  
[   ]buildsrc-summary.dcf23-May-2024 00:36 348  
[   ]install-summary.dcf23-May-2024 00:36 278