Index of /checkResults/release/bioc-LATEST/bumphunter/raw-results
Name
Last modified
Size
Description
Parent Directory
-
info.dcf
22-Sep-2023 00:36
288
merida1/
22-Sep-2023 00:36
-
nebbiolo1/
22-Sep-2023 00:34
-
palomino3/
22-Sep-2023 00:35
-