Index of /checkResults/release/bioc-LATEST/bumphunter/raw-results/nebbiolo2

[ICO]NameLast modifiedSizeDescription

[DIR]Parent Directory  -  
[TXT]buildsrc-out.txt23-Feb-2024 01:35 818  
[   ]buildsrc-summary.dcf23-Feb-2024 01:35 426  
[TXT]checksrc-out.txt23-Feb-2024 01:35 4.0K 
[   ]checksrc-summary.dcf23-Feb-2024 01:35 426  
[TXT]install-out.txt23-Feb-2024 01:35 1.0K 
[   ]install-summary.dcf23-Feb-2024 01:35 265