Name | Last modified | Size | Description | |
---|---|---|---|---|
Parent Directory | - | |||
install-summary.dcf | 24-Jul-2024 22:05 | 276 | ||
install-out.txt | 24-Jul-2024 22:05 | 1.3K | ||
checksrc-summary.dcf | 24-Jul-2024 22:05 | 463 | ||
checksrc-out.txt | 24-Jul-2024 22:05 | 4.6K | ||
buildsrc-summary.dcf | 24-Jul-2024 22:05 | 437 | ||
buildsrc-out.txt | 24-Jul-2024 22:05 | 891 | ||
buildbin-summary.dcf | 24-Jul-2024 22:05 | 549 | ||
buildbin-out.txt | 24-Jul-2024 22:05 | 1.5K | ||