Index of /checkResults/release/bioc-LATEST/biscuiteer/raw-results

[ICO]NameLast modifiedSizeDescription

[DIR]Parent Directory  -  
[   ]info.dcf15-Jan-2022 03:07 282  
[DIR]machv2/15-Jan-2022 03:07 -  
[DIR]nebbiolo2/15-Jan-2022 03:04 -  
[DIR]tokay2/15-Jan-2022 03:06 -