Index of /checkResults/release/bioc-LATEST/biscuiteer/raw-results/merida1

[ICO]NameLast modifiedSizeDescription

[DIR]Parent Directory  -  
[TXT]buildbin-out.txt19-Jun-2024 06:59 1.5K 
[   ]buildbin-summary.dcf19-Jun-2024 06:59 548  
[TXT]buildsrc-out.txt19-Jun-2024 06:59 891  
[   ]buildsrc-summary.dcf19-Jun-2024 06:59 437  
[TXT]checksrc-out.txt19-Jun-2024 06:59 4.5K 
[   ]checksrc-summary.dcf19-Jun-2024 06:59 463  
[TXT]install-out.txt19-Jun-2024 06:59 1.3K 
[   ]install-summary.dcf19-Jun-2024 06:59 276