Back to Multiple platform build/check report for BioC 3.12
A[B]CDEFGHIJKLMNOPQRSTUVWXYZ

Multiple platform build/check report for BioC 3.12

Results for package bioassayR

This page was generated on 2021-03-03 12:08:46 -0500 (Wed, 03 Mar 2021).

Package 151/1974HostnameOS / ArchINSTALLBUILDCHECKBUILD BIN
bioassayR 1.28.2
Daniela Cassol
Snapshot Date: 2021-03-02 14:50:31 -0500 (Tue, 02 Mar 2021)
URL: https://git.bioconductor.org/packages/bioassayR
Branch: RELEASE_3_12
Last Commit: 75eb25d
Last Changed Date: 2021-02-26 15:47:36 -0500 (Fri, 26 Feb 2021)
malbec1Linux (Ubuntu 18.04.5 LTS) / x86_64  OK    OK    WARNINGS  UNNEEDED, same version exists in internal repository
nebbiolo1Linux (Ubuntu 20.04.2 LTS) / x86_64  OK    OK    OK  
tokay1Windows Server 2012 R2 Standard / x64  OK    OK    WARNINGS    OK  UNNEEDED, same version exists in internal repository
merida1macOS 10.14.6 Mojave / x86_64  OK    OK    WARNINGS    OK  UNNEEDED, same version exists in internal repository