Name | Last modified | Size | Description | |
---|---|---|---|---|
Parent Directory | - | |||
install-out.txt | 24-Jul-2024 22:04 | 1.3K | ||
install-summary.dcf | 24-Jul-2024 22:04 | 275 | ||
buildsrc-out.txt | 24-Jul-2024 22:04 | 854 | ||
buildsrc-summary.dcf | 24-Jul-2024 22:04 | 466 | ||
checksrc-out.txt | 24-Jul-2024 22:04 | 9.2K | ||
checksrc-summary.dcf | 24-Jul-2024 22:04 | 460 | ||
buildbin-out.txt | 24-Jul-2024 22:04 | 1.5K | ||
buildbin-summary.dcf | 24-Jul-2024 22:04 | 534 | ||