Name | Last modified | Size | Description | |
---|---|---|---|---|
Parent Directory | - | |||
checksrc-out.txt | 05-Mar-2024 01:38 | 6.4K | ||
install-out.txt | 27-Jul-2024 06:40 | 1.4K | ||
buildbin-out.txt | 05-Mar-2024 01:38 | 1.2K | ||
buildsrc-out.txt | 27-Jul-2024 06:40 | 662 | ||
buildbin-summary.dcf | 05-Mar-2024 01:38 | 546 | ||
checksrc-summary.dcf | 05-Mar-2024 01:38 | 459 | ||
buildsrc-summary.dcf | 27-Jul-2024 06:40 | 356 | ||
install-summary.dcf | 27-Jul-2024 06:40 | 276 | ||