Name | Last modified | Size | Description | |
---|---|---|---|---|
Parent Directory | - | |||
buildbin-summary.dcf | 12-Jun-2024 03:41 | 549 | ||
buildbin-out.txt | 12-Jun-2024 03:41 | 1.6K | ||
checksrc-summary.dcf | 12-Jun-2024 03:41 | 456 | ||
checksrc-out.txt | 12-Jun-2024 03:41 | 9.1K | ||
buildsrc-summary.dcf | 12-Jun-2024 03:41 | 438 | ||
buildsrc-out.txt | 12-Jun-2024 03:41 | 828 | ||
install-summary.dcf | 12-Jun-2024 03:41 | 275 | ||
install-out.txt | 12-Jun-2024 03:41 | 1.4K | ||