Name | Last modified | Size | Description | |
---|---|---|---|---|
Parent Directory | - | |||
buildsrc-out.txt | 10-May-2024 00:40 | 829 | ||
buildsrc-summary.dcf | 10-May-2024 00:40 | 439 | ||
checksrc-out.txt | 10-May-2024 00:40 | 39K | ||
checksrc-summary.dcf | 10-May-2024 00:40 | 467 | ||
install-out.txt | 10-May-2024 00:40 | 1.3K | ||
install-summary.dcf | 10-May-2024 00:40 | 277 | ||