Name | Last modified | Size | Description | |
---|---|---|---|---|
Parent Directory | - | |||
install-summary.dcf | 12-Jun-2024 03:43 | 276 | ||
install-out.txt | 12-Jun-2024 03:43 | 1.4K | ||
checksrc-summary.dcf | 12-Jun-2024 03:43 | 457 | ||
checksrc-out.txt | 12-Jun-2024 03:43 | 9.2K | ||
buildsrc-summary.dcf | 12-Jun-2024 03:43 | 438 | ||
buildsrc-out.txt | 12-Jun-2024 03:43 | 828 | ||
buildbin-summary.dcf | 12-Jun-2024 03:43 | 549 | ||
buildbin-out.txt | 12-Jun-2024 03:43 | 1.6K | ||