Index of /checkResults/release/bioc-LATEST/atSNP/raw-results

[ICO]NameLast modifiedSizeDescription

[DIR]Parent Directory  -  
[   ]info.dcf18-May-2024 00:34 274  
[DIR]kunpeng2/10-May-2024 00:40 -  
[DIR]lconway/18-May-2024 00:37 -  
[DIR]merida1/05-Mar-2024 01:38 -  
[DIR]nebbiolo1/18-May-2024 00:35 -  
[DIR]palomino3/18-May-2024 00:36 -