Index of /checkResults/release/bioc-LATEST/atSNP/raw-results/lconway

[ICO]NameLast modifiedSizeDescription

[DIR]Parent Directory  -  
[TXT]buildbin-out.txt18-May-2024 00:37 5.4K 
[   ]buildbin-summary.dcf18-May-2024 00:37 517  
[TXT]buildsrc-out.txt18-May-2024 00:37 901  
[   ]buildsrc-summary.dcf18-May-2024 00:37 421  
[TXT]checksrc-out.txt18-May-2024 00:37 10K 
[   ]checksrc-summary.dcf18-May-2024 00:37 436  
[TXT]install-out.txt18-May-2024 00:37 3.4K 
[   ]install-summary.dcf18-May-2024 00:37 265