Back to Multiple platform build/check report for BioC 3.18:   simplified   long
[A]BCDEFGHIJKLMNOPQRSTUVWXYZ

This page was generated on 2024-02-22 11:36:31 -0500 (Thu, 22 Feb 2024).

HostnameOSArch (*)R versionInstalled pkgs
nebbiolo2Linux (Ubuntu 22.04.3 LTS)x86_644.3.2 Patched (2023-11-13 r85521) -- "Eye Holes" 4691
palomino4Windows Server 2022 Datacenterx644.3.2 (2023-10-31 ucrt) -- "Eye Holes" 4444
lconwaymacOS 12.7.1 Montereyx86_644.3.2 Patched (2023-11-01 r85457) -- "Eye Holes" 4465
Click on any hostname to see more info about the system (e.g. compilers)      (*) as reported by 'uname -p', except on Windows and Mac OS X

Package 87/2266HostnameOS / ArchINSTALLBUILDCHECKBUILD BIN
appreci8R 1.20.2  (landing page)
Sarah Sandmann
Snapshot Date: 2024-02-21 14:05:05 -0500 (Wed, 21 Feb 2024)
git_url: https://git.bioconductor.org/packages/appreci8R
git_branch: RELEASE_3_18
git_last_commit: 491a34d
git_last_commit_date: 2024-02-14 07:29:50 -0500 (Wed, 14 Feb 2024)
nebbiolo2Linux (Ubuntu 22.04.3 LTS) / x86_64  OK    OK    OK  UNNEEDED, same version is already published
palomino4Windows Server 2022 Datacenter / x64  OK    OK    OK    OK  UNNEEDED, same version is already published
lconwaymacOS 12.7.1 Monterey / x86_64  OK    OK    OK    OK  UNNEEDED, same version is already published
kjohnson1macOS 13.6.1 Ventura / arm64see weekly results here

BUILD results for appreci8R on palomino4


To the developers/maintainers of the appreci8R package:
- Allow up to 24 hours (and sometimes 48 hours) for your latest push to git@git.bioconductor.org:packages/appreci8R.git to reflect on this report. See Troubleshooting Build Report for more information.
- Use the following Renviron settings to reproduce errors and warnings.
- If 'R CMD check' started to fail recently on the Linux builder(s) over a missing dependency, add the missing dependency to 'Suggests:' in your DESCRIPTION file. See Renviron.bioc for more information.

raw results


Summary

Package: appreci8R
Version: 1.20.2
Command: chmod a+r appreci8R -R && F:\biocbuild\bbs-3.18-bioc\R\bin\R.exe CMD build --keep-empty-dirs --no-resave-data appreci8R
StartedAt: 2024-02-21 17:02:37 -0500 (Wed, 21 Feb 2024)
EndedAt: 2024-02-21 17:05:35 -0500 (Wed, 21 Feb 2024)
EllapsedTime: 177.6 seconds
RetCode: 0
Status:   OK  
PackageFile: appreci8R_1.20.2.tar.gz
PackageFileSize: 892.5 KiB

Command output

##############################################################################
##############################################################################
###
### Running command:
###
###   chmod a+r appreci8R -R && F:\biocbuild\bbs-3.18-bioc\R\bin\R.exe CMD build --keep-empty-dirs --no-resave-data appreci8R
###
##############################################################################
##############################################################################


* checking for file 'appreci8R/DESCRIPTION' ... OK
* preparing 'appreci8R':
* checking DESCRIPTION meta-information ... OK
* installing the package to process help pages
* saving partial Rd database
* creating vignettes ... OK
* checking for LF line-endings in source and make files and shell scripts
* checking for empty or unneeded directories
Omitted 'LazyData' from DESCRIPTION
* building 'appreci8R_1.20.2.tar.gz'