Index of /checkResults/release/bioc-LATEST/alpine/raw-results/palomino4
Name
Last modified
Size
Description
Parent Directory
-
buildsrc-out.txt
23-Apr-2023 00:18
919
buildsrc-summary.dcf
23-Apr-2023 00:18
364
install-out.txt
23-Apr-2023 00:18
616
install-summary.dcf
23-Apr-2023 00:18
268