Index of /checkResults/release/bioc-LATEST/alpine/raw-results
Name
Last modified
Size
Description
Parent Directory
-
info.dcf
25-Apr-2023 00:18
269
lconway/
25-Apr-2023 00:18
-
nebbiolo2/
25-Apr-2023 00:18
-
palomino4/
23-Apr-2023 00:18
-