Index of /checkResults/release/bioc-LATEST/TBSignatureProfiler/raw-results/merida1

[ICO]NameLast modifiedSizeDescription

[DIR]Parent Directory  -  
[TXT]buildbin-out.txt02-Jul-2022 01:08 1.3K 
[   ]buildbin-summary.dcf02-Jul-2022 01:08 599  
[TXT]buildsrc-out.txt02-Jul-2022 01:08 863  
[   ]buildsrc-summary.dcf02-Jul-2022 01:08 461  
[TXT]checksrc-out.txt02-Jul-2022 01:08 3.6K 
[   ]checksrc-summary.dcf02-Jul-2022 01:08 490  
[TXT]install-out.txt02-Jul-2022 01:08 1.0K 
[   ]install-summary.dcf02-Jul-2022 01:08 291