Name | Last modified | Size | Description | |
---|---|---|---|---|
Parent Directory | - | |||
install-summary.dcf | 28-Mar-2024 00:38 | 293 | ||
install-out.txt | 28-Mar-2024 00:38 | 1.0K | ||
checksrc-summary.dcf | 28-Mar-2024 00:38 | 492 | ||
checksrc-out.txt | 28-Mar-2024 00:38 | 3.7K | ||
buildsrc-summary.dcf | 28-Mar-2024 00:38 | 464 | ||
buildsrc-out.txt | 28-Mar-2024 00:38 | 864 | ||
buildbin-summary.dcf | 28-Mar-2024 00:38 | 601 | ||
buildbin-out.txt | 28-Mar-2024 00:38 | 1.3K | ||