Back to Multiple platform build/check report for BioC 3.16:   simplified   long
ABCDEFGHIJKLMNOPQR[S]TUVWXYZ

This page was generated on 2023-03-29 11:06:27 -0400 (Wed, 29 Mar 2023).

HostnameOSArch (*)R versionInstalled pkgs
nebbiolo2Linux (Ubuntu 20.04.5 LTS)x86_644.2.3 (2023-03-15) -- "Shortstop Beagle" 4482
palomino4Windows Server 2022 Datacenterx644.2.3 (2023-03-15 ucrt) -- "Shortstop Beagle" 4278
lconwaymacOS 12.5.1 Montereyx86_644.2.3 (2023-03-15) -- "Shortstop Beagle" 4306
Click on any hostname to see more info about the system (e.g. compilers)      (*) as reported by 'uname -p', except on Windows and Mac OS X

CHECK results for SpliceWiz on lconway


To the developers/maintainers of the SpliceWiz package:
- Please allow up to 24 hours (and sometimes 48 hours) for your latest push to git@git.bioconductor.org:packages/SpliceWiz.git to
reflect on this report. See How and When does the builder pull? When will my changes propagate? for more information.
- Make sure to use the following settings in order to reproduce any error or warning you see on this page.

raw results

Package 1945/2183HostnameOS / ArchINSTALLBUILDCHECKBUILD BIN
SpliceWiz 1.0.3  (landing page)
Alex Chit Hei Wong
Snapshot Date: 2023-03-27 14:00:04 -0400 (Mon, 27 Mar 2023)
git_url: https://git.bioconductor.org/packages/SpliceWiz
git_branch: RELEASE_3_16
git_last_commit: c5182b6
git_last_commit_date: 2023-03-22 17:52:26 -0400 (Wed, 22 Mar 2023)
nebbiolo2Linux (Ubuntu 20.04.5 LTS) / x86_64  OK    OK    ERROR  
palomino4Windows Server 2022 Datacenter / x64  OK    OK    OK    OK  UNNEEDED, same version is already published
lconwaymacOS 12.5.1 Monterey / x86_64  OK    OK    OK    OK  UNNEEDED, same version is already published

Summary

Package: SpliceWiz
Version: 1.0.3
Command: /Library/Frameworks/R.framework/Resources/bin/R CMD check --install=check:SpliceWiz.install-out.txt --library=/Library/Frameworks/R.framework/Resources/library --no-vignettes --timings SpliceWiz_1.0.3.tar.gz
StartedAt: 2023-03-27 22:59:06 -0400 (Mon, 27 Mar 2023)
EndedAt: 2023-03-27 23:13:00 -0400 (Mon, 27 Mar 2023)
EllapsedTime: 834.4 seconds
RetCode: 0
Status:   OK  
CheckDir: SpliceWiz.Rcheck
Warnings: 0

Command output

##############################################################################
##############################################################################
###
### Running command:
###
###   /Library/Frameworks/R.framework/Resources/bin/R CMD check --install=check:SpliceWiz.install-out.txt --library=/Library/Frameworks/R.framework/Resources/library --no-vignettes --timings SpliceWiz_1.0.3.tar.gz
###
##############################################################################
##############################################################################


* using log directory ‘/Users/biocbuild/bbs-3.16-bioc/meat/SpliceWiz.Rcheck’
* using R version 4.2.3 (2023-03-15)
* using platform: x86_64-apple-darwin17.0 (64-bit)
* using session charset: UTF-8
* using option ‘--no-vignettes’
* checking for file ‘SpliceWiz/DESCRIPTION’ ... OK
* this is package ‘SpliceWiz’ version ‘1.0.3’
* package encoding: UTF-8
* checking package namespace information ... OK
* checking package dependencies ... OK
* checking if this is a source package ... OK
* checking if there is a namespace ... OK
* checking for hidden files and directories ... OK
* checking for portable file names ... OK
* checking for sufficient/correct file permissions ... OK
* checking whether package ‘SpliceWiz’ can be installed ... OK
* checking installed package size ... OK
* checking package directory ... OK
* checking ‘build’ directory ... OK
* checking DESCRIPTION meta-information ... OK
* checking top-level files ... OK
* checking for left-over files ... OK
* checking index information ... OK
* checking package subdirectories ... OK
* checking R files for non-ASCII characters ... OK
* checking R files for syntax errors ... OK
* checking whether the package can be loaded ... OK
* checking whether the package can be loaded with stated dependencies ... OK
* checking whether the package can be unloaded cleanly ... OK
* checking whether the namespace can be loaded with stated dependencies ... OK
* checking whether the namespace can be unloaded cleanly ... OK
* checking dependencies in R code ... OK
* checking S3 generic/method consistency ... OK
* checking replacement functions ... OK
* checking foreign function calls ... OK
* checking R code for possible problems ... OK
* checking Rd files ... OK
* checking Rd metadata ... OK
* checking Rd cross-references ... OK
* checking for missing documentation entries ... OK
* checking for code/documentation mismatches ... OK
* checking Rd \usage sections ... OK
* checking Rd contents ... OK
* checking for unstated dependencies in examples ... OK
* checking line endings in shell scripts ... OK
* checking line endings in C/C++/Fortran sources/headers ... OK
* checking line endings in Makefiles ... OK
* checking compilation flags in Makevars ... OK
* checking for GNU extensions in Makefiles ... OK
* checking for portable use of $(BLAS_LIBS) and $(LAPACK_LIBS) ... OK
* checking use of PKG_*FLAGS in Makefiles ... OK
* checking compiled code ... NOTE
Note: information on .o files is not available
* checking files in ‘vignettes’ ... OK
* checking examples ... OK
Examples with CPU (user + system) or elapsed time > 5s
                          user system elapsed
NxtSE-class             42.910  0.792  43.858
ASE-methods             34.996  0.338  35.436
Build-Reference-methods 14.895  0.182  15.105
plotCoverage             7.606  0.158   7.787
Run_SpliceWiz_Filters    6.338  0.024   6.376
* checking for unstated dependencies in ‘tests’ ... OK
* checking tests ...
  Running ‘testthat.R’
 OK
* checking for unstated dependencies in vignettes ... OK
* checking package vignettes in ‘inst/doc’ ... OK
* checking running R code from vignettes ... SKIPPED
* checking re-building of vignette outputs ... SKIPPED
* checking PDF version of manual ... OK
* DONE

Status: 1 NOTE
See
  ‘/Users/biocbuild/bbs-3.16-bioc/meat/SpliceWiz.Rcheck/00check.log’
for details.



Installation output

SpliceWiz.Rcheck/00install.out

##############################################################################
##############################################################################
###
### Running command:
###
###   /Library/Frameworks/R.framework/Resources/bin/R CMD INSTALL SpliceWiz
###
##############################################################################
##############################################################################


* installing to library ‘/Library/Frameworks/R.framework/Versions/4.2/Resources/library’
* installing *source* package ‘SpliceWiz’ ...
** using staged installation
Configuring without OpenMP for MacOS
** libs
clang++ -mmacosx-version-min=10.13 -std=gnu++11 -I"/Library/Frameworks/R.framework/Resources/include" -DNDEBUG  -I'/Library/Frameworks/R.framework/Versions/4.2/Resources/library/ompBAM/include' -I'/Library/Frameworks/R.framework/Versions/4.2/Resources/library/Rcpp/include' -I'/Library/Frameworks/R.framework/Versions/4.2/Resources/library/zlibbioc/include' -I'/Library/Frameworks/R.framework/Versions/4.2/Resources/library/RcppProgress/include' -I/usr/local/include   -DSPLICEWIZ -fPIC  -Wall -g -O2  -c BAM2blocks.cpp -o BAM2blocks.o
clang++ -mmacosx-version-min=10.13 -std=gnu++11 -I"/Library/Frameworks/R.framework/Resources/include" -DNDEBUG  -I'/Library/Frameworks/R.framework/Versions/4.2/Resources/library/ompBAM/include' -I'/Library/Frameworks/R.framework/Versions/4.2/Resources/library/Rcpp/include' -I'/Library/Frameworks/R.framework/Versions/4.2/Resources/library/zlibbioc/include' -I'/Library/Frameworks/R.framework/Versions/4.2/Resources/library/RcppProgress/include' -I/usr/local/include   -DSPLICEWIZ -fPIC  -Wall -g -O2  -c FastaReader.cpp -o FastaReader.o
clang++ -mmacosx-version-min=10.13 -std=gnu++11 -I"/Library/Frameworks/R.framework/Resources/include" -DNDEBUG  -I'/Library/Frameworks/R.framework/Versions/4.2/Resources/library/ompBAM/include' -I'/Library/Frameworks/R.framework/Versions/4.2/Resources/library/Rcpp/include' -I'/Library/Frameworks/R.framework/Versions/4.2/Resources/library/zlibbioc/include' -I'/Library/Frameworks/R.framework/Versions/4.2/Resources/library/RcppProgress/include' -I/usr/local/include   -DSPLICEWIZ -fPIC  -Wall -g -O2  -c FragmentBlocks.cpp -o FragmentBlocks.o
clang++ -mmacosx-version-min=10.13 -std=gnu++11 -I"/Library/Frameworks/R.framework/Resources/include" -DNDEBUG  -I'/Library/Frameworks/R.framework/Versions/4.2/Resources/library/ompBAM/include' -I'/Library/Frameworks/R.framework/Versions/4.2/Resources/library/Rcpp/include' -I'/Library/Frameworks/R.framework/Versions/4.2/Resources/library/zlibbioc/include' -I'/Library/Frameworks/R.framework/Versions/4.2/Resources/library/RcppProgress/include' -I/usr/local/include   -DSPLICEWIZ -fPIC  -Wall -g -O2  -c GZTools.cpp -o GZTools.o
clang++ -mmacosx-version-min=10.13 -std=gnu++11 -I"/Library/Frameworks/R.framework/Resources/include" -DNDEBUG  -I'/Library/Frameworks/R.framework/Versions/4.2/Resources/library/ompBAM/include' -I'/Library/Frameworks/R.framework/Versions/4.2/Resources/library/Rcpp/include' -I'/Library/Frameworks/R.framework/Versions/4.2/Resources/library/zlibbioc/include' -I'/Library/Frameworks/R.framework/Versions/4.2/Resources/library/RcppProgress/include' -I/usr/local/include   -DSPLICEWIZ -fPIC  -Wall -g -O2  -c RcppExports.cpp -o RcppExports.o
clang++ -mmacosx-version-min=10.13 -std=gnu++11 -I"/Library/Frameworks/R.framework/Resources/include" -DNDEBUG  -I'/Library/Frameworks/R.framework/Versions/4.2/Resources/library/ompBAM/include' -I'/Library/Frameworks/R.framework/Versions/4.2/Resources/library/Rcpp/include' -I'/Library/Frameworks/R.framework/Versions/4.2/Resources/library/zlibbioc/include' -I'/Library/Frameworks/R.framework/Versions/4.2/Resources/library/RcppProgress/include' -I/usr/local/include   -DSPLICEWIZ -fPIC  -Wall -g -O2  -c ReadBlockProcessor.cpp -o ReadBlockProcessor.o
clang++ -mmacosx-version-min=10.13 -std=gnu++11 -I"/Library/Frameworks/R.framework/Resources/include" -DNDEBUG  -I'/Library/Frameworks/R.framework/Versions/4.2/Resources/library/ompBAM/include' -I'/Library/Frameworks/R.framework/Versions/4.2/Resources/library/Rcpp/include' -I'/Library/Frameworks/R.framework/Versions/4.2/Resources/library/zlibbioc/include' -I'/Library/Frameworks/R.framework/Versions/4.2/Resources/library/RcppProgress/include' -I/usr/local/include   -DSPLICEWIZ -fPIC  -Wall -g -O2  -c ReadBlockProcessor_CoverageBlocks.cpp -o ReadBlockProcessor_CoverageBlocks.o
ReadBlockProcessor_CoverageBlocks.cpp:251:16: warning: variable 'len' set but not used [-Wunused-but-set-variable]
                unsigned int len=0;
                             ^
1 warning generated.
clang++ -mmacosx-version-min=10.13 -std=gnu++11 -I"/Library/Frameworks/R.framework/Resources/include" -DNDEBUG  -I'/Library/Frameworks/R.framework/Versions/4.2/Resources/library/ompBAM/include' -I'/Library/Frameworks/R.framework/Versions/4.2/Resources/library/Rcpp/include' -I'/Library/Frameworks/R.framework/Versions/4.2/Resources/library/zlibbioc/include' -I'/Library/Frameworks/R.framework/Versions/4.2/Resources/library/RcppProgress/include' -I/usr/local/include   -DSPLICEWIZ -fPIC  -Wall -g -O2  -c ReadBlockProcessor_FragmentsMap.cpp -o ReadBlockProcessor_FragmentsMap.o
clang++ -mmacosx-version-min=10.13 -std=gnu++11 -I"/Library/Frameworks/R.framework/Resources/include" -DNDEBUG  -I'/Library/Frameworks/R.framework/Versions/4.2/Resources/library/ompBAM/include' -I'/Library/Frameworks/R.framework/Versions/4.2/Resources/library/Rcpp/include' -I'/Library/Frameworks/R.framework/Versions/4.2/Resources/library/zlibbioc/include' -I'/Library/Frameworks/R.framework/Versions/4.2/Resources/library/RcppProgress/include' -I/usr/local/include   -DSPLICEWIZ -fPIC  -Wall -g -O2  -c ReadBlockProcessor_TandemJunctions.cpp -o ReadBlockProcessor_TandemJunctions.o
clang++ -mmacosx-version-min=10.13 -std=gnu++11 -I"/Library/Frameworks/R.framework/Resources/include" -DNDEBUG  -I'/Library/Frameworks/R.framework/Versions/4.2/Resources/library/ompBAM/include' -I'/Library/Frameworks/R.framework/Versions/4.2/Resources/library/Rcpp/include' -I'/Library/Frameworks/R.framework/Versions/4.2/Resources/library/zlibbioc/include' -I'/Library/Frameworks/R.framework/Versions/4.2/Resources/library/RcppProgress/include' -I/usr/local/include   -DSPLICEWIZ -fPIC  -Wall -g -O2  -c covTools.cpp -o covTools.o
clang++ -mmacosx-version-min=10.13 -std=gnu++11 -I"/Library/Frameworks/R.framework/Resources/include" -DNDEBUG  -I'/Library/Frameworks/R.framework/Versions/4.2/Resources/library/ompBAM/include' -I'/Library/Frameworks/R.framework/Versions/4.2/Resources/library/Rcpp/include' -I'/Library/Frameworks/R.framework/Versions/4.2/Resources/library/zlibbioc/include' -I'/Library/Frameworks/R.framework/Versions/4.2/Resources/library/RcppProgress/include' -I/usr/local/include   -DSPLICEWIZ -fPIC  -Wall -g -O2  -c main.cpp -o main.o
clang++ -mmacosx-version-min=10.13 -std=gnu++11 -I"/Library/Frameworks/R.framework/Resources/include" -DNDEBUG  -I'/Library/Frameworks/R.framework/Versions/4.2/Resources/library/ompBAM/include' -I'/Library/Frameworks/R.framework/Versions/4.2/Resources/library/Rcpp/include' -I'/Library/Frameworks/R.framework/Versions/4.2/Resources/library/zlibbioc/include' -I'/Library/Frameworks/R.framework/Versions/4.2/Resources/library/RcppProgress/include' -I/usr/local/include   -DSPLICEWIZ -fPIC  -Wall -g -O2  -c swEngine.cpp -o swEngine.o
clang++ -mmacosx-version-min=10.13 -std=gnu++11 -I"/Library/Frameworks/R.framework/Resources/include" -DNDEBUG  -I'/Library/Frameworks/R.framework/Versions/4.2/Resources/library/ompBAM/include' -I'/Library/Frameworks/R.framework/Versions/4.2/Resources/library/Rcpp/include' -I'/Library/Frameworks/R.framework/Versions/4.2/Resources/library/zlibbioc/include' -I'/Library/Frameworks/R.framework/Versions/4.2/Resources/library/RcppProgress/include' -I/usr/local/include   -DSPLICEWIZ -fPIC  -Wall -g -O2  -c synthReadGenerator.cpp -o synthReadGenerator.o
clang++ -mmacosx-version-min=10.13 -std=gnu++11 -dynamiclib -Wl,-headerpad_max_install_names -undefined dynamic_lookup -single_module -multiply_defined suppress -L/Library/Frameworks/R.framework/Resources/lib -L/usr/local/lib -o SpliceWiz.so BAM2blocks.o FastaReader.o FragmentBlocks.o GZTools.o RcppExports.o ReadBlockProcessor.o ReadBlockProcessor_CoverageBlocks.o ReadBlockProcessor_FragmentsMap.o ReadBlockProcessor_TandemJunctions.o covTools.o main.o swEngine.o synthReadGenerator.o -DSPLICEWIZ -F/Library/Frameworks/R.framework/.. -framework R -Wl,-framework -Wl,CoreFoundation
installing to /Library/Frameworks/R.framework/Versions/4.2/Resources/library/00LOCK-SpliceWiz/00new/SpliceWiz/libs
** R
** inst
** byte-compile and prepare package for lazy loading
** help
*** installing help indices
** building package indices
** installing vignettes
** testing if installed package can be loaded from temporary location
** checking absolute paths in shared objects and dynamic libraries
** testing if installed package can be loaded from final location
** testing if installed package keeps a record of temporary installation path
* DONE (SpliceWiz)

Tests output

SpliceWiz.Rcheck/tests/testthat.Rout


R version 4.2.3 (2023-03-15) -- "Shortstop Beagle"
Copyright (C) 2023 The R Foundation for Statistical Computing
Platform: x86_64-apple-darwin17.0 (64-bit)

R is free software and comes with ABSOLUTELY NO WARRANTY.
You are welcome to redistribute it under certain conditions.
Type 'license()' or 'licence()' for distribution details.

R is a collaborative project with many contributors.
Type 'contributors()' for more information and
'citation()' on how to cite R or R packages in publications.

Type 'demo()' for some demos, 'help()' for on-line help, or
'help.start()' for an HTML browser interface to help.
Type 'q()' to quit R.

> library(testthat)
> library(SpliceWiz)
Loading required package: NxtIRFdata
SpliceWiz package loaded with 1 threads
Use setSWthreads() to set the number of SpliceWiz threads
> 
> test_check("SpliceWiz")
Loading required package: Rsubread
Mar 27 23:05:47 Converting FASTA to local TwoBitFile...done
Mar 27 23:05:48 Connecting to genome TwoBitFile...done
Mar 27 23:05:48 Making local copy of GTF file...done
Mar 27 23:05:48 Extracting temp genome FASTA from TwoBit file
Mar 27 23:05:48 Generating synthetic reads, saving to /private/tmp/RtmpK0Qdio/refWithMapExcl/Mappability/Reads.fa
0%   10   20   30   40   50   60   70   80   90   100%
[----|----|----|----|----|----|----|----|----|----|
**************************************************|
10145 synthetic reads generated
Mar 27 23:05:48 Cleaning temp genome / gene annotation files

        ==========     _____ _    _ ____  _____  ______          _____  
        =====         / ____| |  | |  _ \|  __ \|  ____|   /\   |  __ \ 
          =====      | (___ | |  | | |_) | |__) | |__     /  \  | |  | |
            ====      \___ \| |  | |  _ <|  _  /|  __|   / /\ \ | |  | |
              ====    ____) | |__| | |_) | | \ \| |____ / ____ \| |__| |
        ==========   |_____/ \____/|____/|_|  \_\______/_/    \_\_____/
       Rsubread 2.12.3

//================================= setting ==================================\\
||                                                                            ||
||                Index name : reference_index                                ||
||               Index space : base space                                     ||
||               Index split : no-split                                       ||
||          Repeat threshold : 100 repeats                                    ||
||              Gapped index : no                                             ||
||                                                                            ||
||       Free / total memory : 64.0GB / 96.0GB                                ||
||                                                                            ||
||               Input files : 1 file in total                                ||
||                             o genome.fa                                    ||
||                                                                            ||
\\============================================================================//

//================================= Running ==================================\\
||                                                                            ||
|| Check the integrity of provided reference sequences ...                    ||
|| No format issues were found                                                ||
|| Scan uninformative subreads in reference sequences ...                     ||
|| Estimate the index size...                                                 ||
||    8%,   0 mins elapsed, rate=47.0k bps/s                                  ||
||   16%,   0 mins elapsed, rate=92.7k bps/s                                  ||
||   24%,   0 mins elapsed, rate=137.2k bps/s                                 ||
||   33%,   0 mins elapsed, rate=180.7k bps/s                                 ||
||   41%,   0 mins elapsed, rate=223.3k bps/s                                 ||
||   49%,   0 mins elapsed, rate=265.2k bps/s                                 ||
||   58%,   0 mins elapsed, rate=306.0k bps/s                                 ||
||   66%,   0 mins elapsed, rate=346.0k bps/s                                 ||
||   74%,   0 mins elapsed, rate=385.7k bps/s                                 ||
||   83%,   0 mins elapsed, rate=424.7k bps/s                                 ||
||   91%,   0 mins elapsed, rate=462.8k bps/s                                 ||
|| 3.0 GB of memory is needed for index building.                             ||
|| Build the index...                                                         ||
||    8%,   0 mins elapsed, rate=5.4k bps/s                                   ||
||   16%,   0 mins elapsed, rate=10.7k bps/s                                  ||
||   24%,   0 mins elapsed, rate=16.0k bps/s                                  ||
||   33%,   0 mins elapsed, rate=21.3k bps/s                                  ||
||   41%,   0 mins elapsed, rate=26.6k bps/s                                  ||
||   49%,   0 mins elapsed, rate=31.8k bps/s                                  ||
||   58%,   0 mins elapsed, rate=37.1k bps/s                                  ||
||   66%,   0 mins elapsed, rate=42.3k bps/s                                  ||
||   74%,   0 mins elapsed, rate=47.5k bps/s                                  ||
||   83%,   0 mins elapsed, rate=52.6k bps/s                                  ||
||   91%,   0 mins elapsed, rate=57.8k bps/s                                  ||
|| Save current index block...                                                ||
||  [ 0.0% finished ]                                                         ||
||  [ 10.0% finished ]                                                        ||
||  [ 20.0% finished ]                                                        ||
||  [ 30.0% finished ]                                                        ||
||  [ 40.0% finished ]                                                        ||
||  [ 50.0% finished ]                                                        ||
||  [ 60.0% finished ]                                                        ||
||  [ 70.0% finished ]                                                        ||
||  [ 80.0% finished ]                                                        ||
||  [ 90.0% finished ]                                                        ||
||  [ 100.0% finished ]                                                       ||
||                                                                            ||
||                      Total running time: 0.3 minutes.                      ||
||              Index ./reference_index was successfully built.               ||
||                                                                            ||
\\============================================================================//


        ==========     _____ _    _ ____  _____  ______          _____  
        =====         / ____| |  | |  _ \|  __ \|  ____|   /\   |  __ \ 
          =====      | (___ | |  | | |_) | |__) | |__     /  \  | |  | |
            ====      \___ \| |  | |  _ <|  _  /|  __|   / /\ \ | |  | |
              ====    ____) | |__| | |_) | | \ \| |____ / ____ \| |__| |
        ==========   |_____/ \____/|____/|_|  \_\______/_/    \_\_____/
       Rsubread 2.12.3

//================================= setting ==================================\\
||                                                                            ||
|| Function      : Read alignment + Junction detection (RNA-Seq)              ||
|| Input file    : Reads.fa                                                   ||
|| Output file   : AlignedReads.bam (BAM)                                     ||
|| Index name    : reference_index                                            ||
||                                                                            ||
||                    ------------------------------------                    ||
||                                                                            ||
||                               Threads : 1                                  ||
||                          Phred offset : 33                                 ||
||                             Min votes : 1 / 14                             ||
||                        Max mismatches : 3                                  ||
||                      Max indel length : 5                                  ||
||            Report multi-mapping reads : yes                                ||
|| Max alignments per multi-mapping read : 1                                  ||
||                           Annotations : transcripts.gtf (GTF)              ||
||                                                                            ||
\\============================================================================//

//================ Running (27-Mar-2023 23:06:06, pid=32155) =================\\
||                                                                            ||
|| Check the input reads.                                                     ||
|| The input file contains base space reads.                                  ||
|| Initialise the memory objects.                                             ||
|| Estimate the mean read length.                                             ||
|| Create the output BAM file.                                                ||
|| Check the index.                                                           ||
|| Init the voting space.                                                     ||
|| Load the annotation file.                                                  ||
|| 538 annotation records were loaded.                                        ||
|| Global environment is initialised.                                         ||
|| Load the 1-th index block...                                               ||
|| The index block has been loaded.                                           ||
|| Start read mapping in chunk.                                               ||
||   65% completed, 4.9 mins elapsed, rate=36.1k reads per second             ||
||   83% completed, 4.9 mins elapsed, rate=0.0k reads per second              ||
||   99% completed, 4.9 mins elapsed, rate=0.0k reads per second              ||
||                                                                            ||
||                           Completed successfully.                          ||
||                                                                            ||
\\====================================    ====================================//

//================================   Summary =================================\\
||                                                                            ||
||                 Total reads : 10,145                                       ||
||                      Mapped : 10,145 (100.0%)                              ||
||             Uniquely mapped : 10,145                                       ||
||               Multi-mapping : 0                                            ||
||                                                                            ||
||                    Unmapped : 0                                            ||
||                                                                            ||
||                   Junctions : 0                                            ||
||                      Indels : 1                                            ||
||                                                                            ||
||                Running time : 4.9 minutes                                  ||
||                                                                            ||
\\============================================================================//

Mar 27 23:10:59 Calculating Mappability Exclusion regions from: /tmp/RtmpK0Qdio/refWithMapExcl/Mappability/AlignedReads.bam
Calculating Mappability Exclusions: /private/tmp/RtmpK0Qdio/refWithMapExcl/Mappability/AlignedReads.bam
0%   10   20   30   40   50   60   70   80   90   100%
[----|----|----|----|----|----|----|----|----|----|
**************************************************|
Performing final sort of fragment maps
Writing Mappability Exclusions
**************************************************|
0%   10   20   30   40   50   60   70   80   90   100%
[----|----|----|----|----|----|----|----|----|----|
**************************************************|
SpliceWiz was compiled without OpenMP
Mar 27 23:11:02 Reference generated without non-polyA reference
Mar 27 23:11:02 Reference generated without Mappability reference
Mar 27 23:11:02 Reference generated without Blacklist exclusion
Mar 27 23:11:02 Converting FASTA to local TwoBitFile...done
Mar 27 23:11:03 Connecting to genome TwoBitFile...done
Mar 27 23:11:03 Making local copy of GTF file...done
Mar 27 23:11:03 Reading source GTF file...done
Mar 27 23:11:04 Processing gtf file...
...genes
...transcripts
...CDS
...exons
done
Mar 27 23:11:06 Processing introns...
...data
...basic annotations
...splice motifs
...other info
...defining flanking exon clusters
done
Mar 27 23:11:09 Generating processBAM reference
...prepping data
...determining measurable introns (directional)
...determining measurable introns (non-directional)
...writing ref-cover.bed
...writing ref-ROI.bed
...writing ref-read-continues.ref
...writing ref-sj.ref
...writing ref-tj.ref
processBAM reference generated
Mar 27 23:11:16 Predicting NMD transcripts from genome sequence
...exonic transcripts
...retained introns

  |                                                                            
  |                                                                      |   0%
  |                                                                            
  |======================================================================| 100%
done
Mar 27 23:11:17 Annotating Splice Events
Annotating Mutually-Exclusive-Exon Splice Events...done
Annotating Skipped-Exon Splice Events...done
Annotating Alternate 5' / 3' Splice Site Splice Events...done
Annotating Alternate First / Last Exon Splice Events...done
Annotating known retained introns...done
Mar 27 23:11:18 Splice Annotations Filtered
Mar 27 23:11:18 Translating Alternate Splice Peptides...done
Mar 27 23:11:18 Splice Annotations finished

Reference build finished
Mar 27 23:11:18 Running SpliceWiz processBAM
Mar 27 23:11:18 Using MulticoreParam 1 threads
Reading reference file
Allocating memory to 1 threads for SpliceWiz (ompBAM)...initialized (0 milliseconds)
Processing BAM file /private/tmp/RtmpK0Qdio/02H003.bam
0%   10   20   30   40   50   60   70   80   90   100%
[----|----|----|----|----|----|----|----|----|----|
**************************************************|
Performing final sort of fragment maps
Writing COV file
**************************************************|
0%   10   20   30   40   50   60   70   80   90   100%
[----|----|----|----|----|----|----|----|----|----|
**************************************************|
Writing output file
/private/tmp/RtmpK0Qdio/02H003.bam processed (362 milliseconds)
Mar 27 23:11:19 SpliceWiz processBAM processed RtmpK0Qdio/02H003.bam
Mar 27 23:11:19 Running SpliceWiz processBAM
Mar 27 23:11:19 Using MulticoreParam 1 threads
Reading reference file
Allocating memory to 1 threads for SpliceWiz (ompBAM)...initialized (0 milliseconds)
Processing BAM file /private/tmp/RtmpK0Qdio/02H003.bam
0%   10   20   30   40   50   60   70   80   90   100%
[----|----|----|----|----|----|----|----|----|----|
**************************************************|
Performing final sort of fragment maps
Writing COV file
**************************************************|
0%   10   20   30   40   50   60   70   80   90   100%
[----|----|----|----|----|----|----|----|----|----|
**************************************************|
Writing output file
/private/tmp/RtmpK0Qdio/02H003.bam processed (354 milliseconds)
Mar 27 23:11:19 SpliceWiz processBAM processed RtmpK0Qdio/02H003.bam
Mar 27 23:11:19 SpliceWiz reference already exists in given directory
Mar 27 23:11:19 Running SpliceWiz processBAM
Mar 27 23:11:19 Using MulticoreParam 1 threads
Allocating memory to 1 threads for SpliceWiz (ompBAM)...initialized (0 milliseconds)
/private/tmp/RtmpK0Qdio/02H003.bam processed (380 milliseconds)
Mar 27 23:11:19 SpliceWiz processBAM processed RtmpK0Qdio/02H003.bam
Allocating memory to 1 threads for SpliceWiz (ompBAM)...initialized (0 milliseconds)
/private/tmp/RtmpK0Qdio/02H025.bam processed (333 milliseconds)
Mar 27 23:11:20 SpliceWiz processBAM processed RtmpK0Qdio/02H025.bam
Allocating memory to 1 threads for SpliceWiz (ompBAM)...initialized (0 milliseconds)
/private/tmp/RtmpK0Qdio/02H026.bam processed (472 milliseconds)
Mar 27 23:11:20 SpliceWiz processBAM processed RtmpK0Qdio/02H026.bam
Allocating memory to 1 threads for SpliceWiz (ompBAM)...initialized (0 milliseconds)
/private/tmp/RtmpK0Qdio/02H033.bam processed (454 milliseconds)
Mar 27 23:11:21 SpliceWiz processBAM processed RtmpK0Qdio/02H033.bam
Allocating memory to 1 threads for SpliceWiz (ompBAM)...initialized (0 milliseconds)
/private/tmp/RtmpK0Qdio/02H043.bam processed (304 milliseconds)
Mar 27 23:11:21 SpliceWiz processBAM processed RtmpK0Qdio/02H043.bam
Allocating memory to 1 threads for SpliceWiz (ompBAM)...initialized (0 milliseconds)
/private/tmp/RtmpK0Qdio/02H046.bam processed (422 milliseconds)
Mar 27 23:11:22 SpliceWiz processBAM processed RtmpK0Qdio/02H046.bam
Mar 27 23:11:22 Using MulticoreParam 1 threads
Mar 27 23:11:22 Validating Experiment; checking COV files...
Mar 27 23:11:22 Compiling Sample Stats
Mar 27 23:11:22 Compiling Junction List...merging...done
Mar 27 23:11:23 Compiling Junction Stats...merging...done
Mar 27 23:11:30 Compiling Intron Retention List...done
Mar 27 23:11:30 Compiling Tandem Junction List...merging...done
Mar 27 23:11:31 Tidying up splice junctions and intron retentions...
...annotating splice junctions
...looking for novel exons
Mar 27 23:11:34 Assembling novel splicing reference:
...loading reference FASTA/GTF
...injecting novel transcripts to GTF
...processing GTF
...processing introns from GTF
...annotating alternative splicing events
done
Mar 27 23:11:43 Tidying up splice junctions and intron retentions (part 2)...
...grouping splice junctions
...grouping introns
...loading splice events
...compiling rowEvents
done

Mar 27 23:11:50 Generating NxtSE assays
Mar 27 23:11:50 Using MulticoreParam 1 threads

  |                                                                            
  |                                                                      |   0%
  |                                                                            
  |============                                                          |  17%
  |                                                                            
  |=======================                                               |  33%
  |                                                                            
  |===================================                                   |  50%
  |                                                                            
  |===============================================                       |  67%
  |                                                                            
  |==========================================================            |  83%
  |                                                                            
  |======================================================================| 100%

Mar 27 23:12:03 Building Final NxtSE Object
Mar 27 23:12:06 SpliceWiz (NxtSE) Collation Finished
Mar 27 23:12:06 Loading NxtSE object from file...done

Mar 27 23:12:06 Removing overlapping introns...
Mar 27 23:12:06 Iterating through IR events to determine introns of main isoforms
Mar 27 23:12:07 Iteration 1
Mar 27 23:12:08 Iteration 2
Mar 27 23:12:11 SpliceWiz reference already exists in given directory
Mar 27 23:12:11 processBAM has already been run on given BAM files
Mar 27 23:12:11 Using MulticoreParam 1 threads
Mar 27 23:12:11 Validating Experiment; checking COV files...
Mar 27 23:12:11 Compiling Sample Stats
Mar 27 23:12:11 Compiling Junction List...merging...done
Mar 27 23:12:12 Compiling Junction Stats...merging...done
Mar 27 23:12:18 Compiling Intron Retention List...done
Mar 27 23:12:19 Tidying up splice junctions and intron retentions...
...annotating splice junctions
...grouping splice junctions
...grouping introns
...loading splice events
...compiling rowEvents
done

Mar 27 23:12:27 Generating NxtSE assays
Mar 27 23:12:27 Using MulticoreParam 1 threads

  |                                                                            
  |                                                                      |   0%
  |                                                                            
  |============                                                          |  17%
  |                                                                            
  |=======================                                               |  33%
  |                                                                            
  |===================================                                   |  50%
  |                                                                            
  |===============================================                       |  67%
  |                                                                            
  |==========================================================            |  83%
  |                                                                            
  |======================================================================| 100%

Mar 27 23:12:41 Building Final NxtSE Object
Mar 27 23:12:43 SpliceWiz (NxtSE) Collation Finished
Mar 27 23:12:43 Loading NxtSE object from file...done

Mar 27 23:12:43 Removing overlapping introns...
Mar 27 23:12:43 Iterating through IR events to determine introns of main isoforms
Mar 27 23:12:44 Iteration 1
Mar 27 23:12:45 Iteration 2
[ FAIL 0 | WARN 0 | SKIP 0 | PASS 29 ]
> 
> # bump to trigger r cmd check
> 
> proc.time()
   user  system elapsed 
265.717 163.339 433.926 

Example timings

SpliceWiz.Rcheck/SpliceWiz-Ex.timings

nameusersystemelapsed
ASE-methods34.996 0.33835.436
ASEFilter-class0.0400.0040.044
Build-Reference-methods14.895 0.18215.105
Coverage0.7820.0330.818
Graphics-User-Interface0.0000.0000.001
Mappability-methods1.1080.0221.133
NxtSE-class42.910 0.79243.858
Run_SpliceWiz_Filters6.3380.0246.376
STAR-methods0.0040.0050.018
View-Reference-methods0.0060.0030.009
collateData0.0630.0210.112
coord2GR0.0180.0010.019
example-SpliceWiz-data0.0070.0020.008
findSamples0.0050.0030.008
isCOV0.0060.0020.010
makeSE4.5610.0884.697
make_plot_data3.9540.0133.978
plotCoverage7.6060.1587.787
processBAM1.9951.0072.258
setSWthreads0.0030.0060.016
theme_white0.6260.2650.204