Index of /checkResults/release/bioc-LATEST/SamSPECTRAL/raw-results
Name
Last modified
Size
Description
Parent Directory
-
info.dcf
28-May-2022 01:08
273
merida1/
28-May-2022 01:08
-
nebbiolo1/
28-May-2022 01:05
-
palomino3/
28-May-2022 01:07
-
riesling1/
19-Mar-2022 00:08
-