Back to Multiple platform build/check report for BioC 3.16
ABCDEFGHIJKLMNOPQR[S]TUVWXYZ

This page was generated on 2022-12-03 11:04:53 -0500 (Sat, 03 Dec 2022).

HostnameOSArch (*)R versionInstalled pkgs
nebbiolo2Linux (Ubuntu 20.04.5 LTS)x86_644.2.2 (2022-10-31) -- "Innocent and Trusting" 4506
palomino4Windows Server 2022 Datacenterx644.2.2 (2022-10-31 ucrt) -- "Innocent and Trusting" 4283
lconwaymacOS 12.5.1 Montereyx86_644.2.2 (2022-10-31) -- "Innocent and Trusting" 4312
Click on any hostname to see more info about the system (e.g. compilers)      (*) as reported by 'uname -p', except on Windows and Mac OS X

All results for package SamSPECTRAL


To the developers/maintainers of the SamSPECTRAL package:
- Please allow up to 24 hours (and sometimes 48 hours) for your latest push to git@git.bioconductor.org:packages/SamSPECTRAL.git to
reflect on this report. See How and When does the builder pull? When will my changes propagate? for more information.
- Make sure to use the following settings in order to reproduce any error or warning you see on this page.

raw results

Package 1763/2183HostnameOS / ArchINSTALLBUILDCHECKBUILD BIN
SamSPECTRAL 1.52.0  (landing page)
Habil
Snapshot Date: 2022-12-02 14:00:04 -0500 (Fri, 02 Dec 2022)
git_url: https://git.bioconductor.org/packages/SamSPECTRAL
git_branch: RELEASE_3_16
git_last_commit: 8bd88a1
git_last_commit_date: 2022-11-01 11:04:53 -0500 (Tue, 01 Nov 2022)
nebbiolo2Linux (Ubuntu 20.04.5 LTS) / x86_64  OK    OK    WARNINGS  UNNEEDED, same version is already published
palomino4Windows Server 2022 Datacenter / x64  OK    OK    WARNINGS    OK  UNNEEDED, same version is already published
lconwaymacOS 12.5.1 Monterey / x86_64  OK    OK    WARNINGS    OK  UNNEEDED, same version is already published

Results for Bioconductor software packages that depend directly on package SamSPECTRAL

QUICK STATSOS / ArchINSTALLBUILDCHECKBUILD BIN
nebbiolo2Linux (Ubuntu 20.04.5 LTS) / x86_64
002
002
0011
palomino4Windows Server 2022 Datacenter / x64
002
002
0011
002
lconwaymacOS 12.5.1 Monterey / x86_64
002
002
0011
002
Package 1/2HostnameOS / ArchINSTALLBUILDCHECKBUILD BIN
CONFESS 1.26.0  (landing page)
Diana LOW
git_last_commit: d1c2548
git_last_commit_date: 2022-11-01 11:13:27 -0500
nebbiolo2Linux (Ubuntu 20.04.5 LTS) / x86_64  OK    OK    WARNINGS  UNNEEDED, same version is already published
palomino4Windows Server 2022 Datacenter / x64  OK    OK    WARNINGS    OK  UNNEEDED, same version is already published
lconwaymacOS 12.5.1 Monterey / x86_64  OK    OK    WARNINGS    OK  UNNEEDED, same version is already published
Package 2/2HostnameOS / ArchINSTALLBUILDCHECKBUILD BIN
ddPCRclust 1.18.0  (landing page)
Benedikt G. Brink
git_last_commit: 8205654
git_last_commit_date: 2022-11-01 11:17:13 -0500
nebbiolo2Linux (Ubuntu 20.04.5 LTS) / x86_64  OK    OK    OK  UNNEEDED, same version is already published
palomino4Windows Server 2022 Datacenter / x64  OK    OK    OK    OK  UNNEEDED, same version is already published
lconwaymacOS 12.5.1 Monterey / x86_64  OK    OK    OK    OK  UNNEEDED, same version is already published